BEGIN:VCALENDAR
VERSION:2.0
PRODID:-//spbstu.ru//ical//RU
NAME:Расписание группы 3332904/40001
X-WR-CALNAME:Расписание группы 3332904/40001
TIMEZONE-ID:Europe/Moscow
X-WR-TIMEZONE:Europe/Moscow
BEGIN:VEVENT
UID:5k8i@192.168.245.71:3006
SEQUENCE:0
DTSTAMP:20260421T051616Z
DTSTART:20260420T090000Z
DTEND:20260420T104000Z
SUMMARY:Элективная физическая культура и спорт
LOCATION:СК Секции
END:VEVENT
BEGIN:VEVENT
UID:4g4h@192.168.245.71:3006
SEQUENCE:0
DTSTAMP:20260421T051616Z
DTSTART:20260420T110000Z
DTEND:20260420T133000Z
SUMMARY:Электротехника
LOCATION:Хим. к. 52
END:VEVENT
BEGIN:VEVENT
UID:oh1n@192.168.245.71:3006
SEQUENCE:0
DTSTAMP:20260421T051616Z
DTSTART:20260421T110000Z
DTEND:20260421T124000Z
SUMMARY:Компьютерное моделирование
LOCATION:11 к. Маштех
END:VEVENT
BEGIN:VEVENT
UID:70db@192.168.245.71:3006
SEQUENCE:0
DTSTAMP:20260421T051616Z
DTSTART:20260421T130000Z
DTEND:20260421T144000Z
SUMMARY:Технология художественной обработки металлов
LOCATION:11 к. Маштех
END:VEVENT
BEGIN:VEVENT
UID:9dwt@192.168.245.71:3006
SEQUENCE:0
DTSTAMP:20260421T051616Z
DTSTART:20260422T103000Z
DTEND:20260422T121000Z
SUMMARY:Основы мастерства
LOCATION:Хим. к. 47
END:VEVENT
BEGIN:VEVENT
UID:bfft@192.168.245.71:3006
SEQUENCE:0
DTSTAMP:20260421T051616Z
DTSTART:20260422T130000Z
DTEND:20260422T144000Z
SUMMARY:Электротехника
LOCATION:ГЗ ЭиЭ
END:VEVENT
BEGIN:VEVENT
UID:03u1@192.168.245.71:3006
SEQUENCE:0
DTSTAMP:20260421T051616Z
DTSTART:20260422T130000Z
DTEND:20260422T144000Z
SUMMARY:Электротехника
LOCATION:ГЗ ЭиЭ
END:VEVENT
BEGIN:VEVENT
UID:wgdu@192.168.245.71:3006
SEQUENCE:0
DTSTAMP:20260421T051616Z
DTSTART:20260423T080000Z
DTEND:20260423T084000Z
SUMMARY:Основы технологии обработки материалов
LOCATION:Хим. к. 48
END:VEVENT
BEGIN:VEVENT
UID:gzaa@192.168.245.71:3006
SEQUENCE:0
DTSTAMP:20260421T051616Z
DTSTART:20260423T090000Z
DTEND:20260423T104000Z
SUMMARY:Основы технологии обработки материалов
LOCATION:Хим. к. 48
END:VEVENT
BEGIN:VEVENT
UID:z47d@192.168.245.71:3006
SEQUENCE:0
DTSTAMP:20260421T051616Z
DTSTART:20260423T110000Z
DTEND:20260423T124000Z
SUMMARY:Элективная физическая культура и спорт
LOCATION:СК Секции
END:VEVENT
BEGIN:VEVENT
UID:s6gh@192.168.245.71:3006
SEQUENCE:0
DTSTAMP:20260421T051616Z
DTSTART:20260425T090000Z
DTEND:20260425T113000Z
SUMMARY:Живопись и цветоведение
LOCATION:ГЗ 314
END:VEVENT
END:VCALENDAR