BEGIN:VCALENDAR
VERSION:2.0
PRODID:-//spbstu.ru//ical//RU
NAME:Расписание группы 3341505/40102
X-WR-CALNAME:Расписание группы 3341505/40102
TIMEZONE-ID:Europe/Moscow
X-WR-TIMEZONE:Europe/Moscow
BEGIN:VEVENT
UID:ugpj@192.168.245.71:3006
SEQUENCE:0
DTSTAMP:20260422T191152Z
DTSTART:20260227T110000Z
DTEND:20260227T130000Z
SUMMARY:Проектирование установочно-зажимных приспособлений
LOCATION:Мех. к. каф.Т М
END:VEVENT
END:VCALENDAR