BEGIN:VCALENDAR
VERSION:2.0
PRODID:-//spbstu.ru//ical//RU
NAME:Расписание группы 3342201/40101
X-WR-CALNAME:Расписание группы 3342201/40101
TIMEZONE-ID:Europe/Moscow
X-WR-TIMEZONE:Europe/Moscow
BEGIN:VEVENT
UID:xc1o@192.168.245.71:3006
SEQUENCE:0
DTSTAMP:20260424T143350Z
DTSTART:20251014T090000Z
DTEND:20251014T104000Z
SUMMARY:Проектирование (модернизация) установки для получения функциональн
 ых материалов
LOCATION:Хим. к. 64
END:VEVENT
BEGIN:VEVENT
UID:zneu@192.168.245.71:3006
SEQUENCE:0
DTSTAMP:20260424T143350Z
DTSTART:20251014T110000Z
DTEND:20251014T124000Z
SUMMARY:Проектирование (модернизация) установки для получения функциональн
 ых материалов
LOCATION:Хим. к. 64
END:VEVENT
BEGIN:VEVENT
UID:nazv@192.168.245.71:3006
SEQUENCE:0
DTSTAMP:20260424T143350Z
DTSTART:20251014T130000Z
DTEND:20251014T144000Z
SUMMARY:Оптические методы исследования в материаловедении
LOCATION:Хим. к. 28
END:VEVENT
BEGIN:VEVENT
UID:nnbf@192.168.245.71:3006
SEQUENCE:0
DTSTAMP:20260424T143350Z
DTSTART:20251016T090000Z
DTEND:20251016T104000Z
SUMMARY:Менеджмент качества
LOCATION:Хим. к. 24
END:VEVENT
BEGIN:VEVENT
UID:9o0n@192.168.245.71:3006
SEQUENCE:0
DTSTAMP:20260424T143350Z
DTSTART:20251016T130000Z
DTEND:20251016T144000Z
SUMMARY:Менеджмент качества
LOCATION:DL Дистанционно
END:VEVENT
END:VCALENDAR