BEGIN:VCALENDAR
VERSION:2.0
PRODID:-//spbstu.ru//ical//RU
NAME:Расписание группы 3342201/40101
X-WR-CALNAME:Расписание группы 3342201/40101
TIMEZONE-ID:Europe/Moscow
X-WR-TIMEZONE:Europe/Moscow
BEGIN:VEVENT
UID:g8wk@192.168.245.71:3006
SEQUENCE:0
DTSTAMP:20260423T154918Z
DTSTART:20251111T090000Z
DTEND:20251111T104000Z
SUMMARY:Проектирование (модернизация) установки для получения функциональн
 ых материалов
LOCATION:Хим. к. 64
END:VEVENT
BEGIN:VEVENT
UID:vxc6@192.168.245.71:3006
SEQUENCE:0
DTSTAMP:20260423T154918Z
DTSTART:20251111T110000Z
DTEND:20251111T124000Z
SUMMARY:Проектирование (модернизация) установки для получения функциональн
 ых материалов
LOCATION:Хим. к. 64
END:VEVENT
BEGIN:VEVENT
UID:37rg@192.168.245.71:3006
SEQUENCE:0
DTSTAMP:20260423T154918Z
DTSTART:20251111T130000Z
DTEND:20251111T144000Z
SUMMARY:Оптические методы исследования в материаловедении
LOCATION:Хим. к. 28
END:VEVENT
BEGIN:VEVENT
UID:7bg9@192.168.245.71:3006
SEQUENCE:0
DTSTAMP:20260423T154918Z
DTSTART:20251113T090000Z
DTEND:20251113T104000Z
SUMMARY:Менеджмент качества
LOCATION:Хим. к. 24
END:VEVENT
BEGIN:VEVENT
UID:il30@192.168.245.71:3006
SEQUENCE:0
DTSTAMP:20260423T154918Z
DTSTART:20251113T130000Z
DTEND:20251113T144000Z
SUMMARY:Менеджмент качества
LOCATION:Хим. к. 52
END:VEVENT
END:VCALENDAR