BEGIN:VCALENDAR
VERSION:2.0
PRODID:-//spbstu.ru//ical//RU
NAME:Расписание группы 3342201/40101
X-WR-CALNAME:Расписание группы 3342201/40101
TIMEZONE-ID:Europe/Moscow
X-WR-TIMEZONE:Europe/Moscow
BEGIN:VEVENT
UID:33rd@192.168.245.71:3006
SEQUENCE:0
DTSTAMP:20260423T000031Z
DTSTART:20251209T090000Z
DTEND:20251209T104000Z
SUMMARY:Проектирование (модернизация) установки для получения функциональн
 ых материалов
LOCATION:Хим. к. 64
END:VEVENT
BEGIN:VEVENT
UID:od68@192.168.245.71:3006
SEQUENCE:0
DTSTAMP:20260423T000031Z
DTSTART:20251209T110000Z
DTEND:20251209T124000Z
SUMMARY:Проектирование (модернизация) установки для получения функциональн
 ых материалов
LOCATION:Хим. к. 64
END:VEVENT
BEGIN:VEVENT
UID:j95n@192.168.245.71:3006
SEQUENCE:0
DTSTAMP:20260423T000031Z
DTSTART:20251209T130000Z
DTEND:20251209T144000Z
SUMMARY:Оптические методы исследования в материаловедении
LOCATION:Хим. к. 28
END:VEVENT
BEGIN:VEVENT
UID:8rnx@192.168.245.71:3006
SEQUENCE:0
DTSTAMP:20260423T000031Z
DTSTART:20251211T090000Z
DTEND:20251211T104000Z
SUMMARY:Менеджмент качества
LOCATION:Хим. к. 24
END:VEVENT
BEGIN:VEVENT
UID:qh5r@192.168.245.71:3006
SEQUENCE:0
DTSTAMP:20260423T000031Z
DTSTART:20251211T130000Z
DTEND:20251211T144000Z
SUMMARY:Менеджмент качества
LOCATION:Хим. к. 52
END:VEVENT
END:VCALENDAR