BEGIN:VCALENDAR
VERSION:2.0
PRODID:-//spbstu.ru//ical//RU
NAME:Расписание группы 3342201/40101
X-WR-CALNAME:Расписание группы 3342201/40101
TIMEZONE-ID:Europe/Moscow
X-WR-TIMEZONE:Europe/Moscow
BEGIN:VEVENT
UID:rb1r@192.168.245.71:3006
SEQUENCE:0
DTSTAMP:20260421T051614Z
DTSTART:20260417T070000Z
DTEND:20260417T084000Z
SUMMARY:Вакуумная и криогенная техника
LOCATION:Хим. к. 64
END:VEVENT
BEGIN:VEVENT
UID:esgr@192.168.245.71:3006
SEQUENCE:0
DTSTAMP:20260421T051614Z
DTSTART:20260417T090000Z
DTEND:20260417T104000Z
SUMMARY:Вакуумная и криогенная техника
LOCATION:Хим. к. 64
END:VEVENT
BEGIN:VEVENT
UID:jknq@192.168.245.71:3006
SEQUENCE:0
DTSTAMP:20260421T051614Z
DTSTART:20260417T110000Z
DTEND:20260417T124000Z
SUMMARY:Процессы на поверхности раздела фаз
LOCATION:Хим. к. 28
END:VEVENT
BEGIN:VEVENT
UID:g0kw@192.168.245.71:3006
SEQUENCE:0
DTSTAMP:20260421T051614Z
DTSTART:20260417T130000Z
DTEND:20260417T144000Z
SUMMARY:Процессы на поверхности раздела фаз
LOCATION:Хим. к. 28
END:VEVENT
BEGIN:VEVENT
UID:jfmz@192.168.245.71:3006
SEQUENCE:0
DTSTAMP:20260421T051614Z
DTSTART:20260418T090000Z
DTEND:20260418T104000Z
SUMMARY:Физические и химические свойства материалов электронной техники
LOCATION:Хим. к. 64
END:VEVENT
END:VCALENDAR