BEGIN:VCALENDAR
VERSION:2.0
PRODID:-//spbstu.ru//ical//RU
NAME:Расписание группы 3342201/40801
X-WR-CALNAME:Расписание группы 3342201/40801
TIMEZONE-ID:Europe/Moscow
X-WR-TIMEZONE:Europe/Moscow
BEGIN:VEVENT
UID:979b@192.168.245.71:3006
SEQUENCE:0
DTSTAMP:20260423T073439Z
DTSTART:20251209T070000Z
DTEND:20251209T084000Z
SUMMARY:Технологии изготовления изделий из полимерных материалов с примене
 нием аддитивных технологий (на английском языке)
LOCATION:Хим. к. 31
END:VEVENT
BEGIN:VEVENT
UID:nzbn@192.168.245.71:3006
SEQUENCE:0
DTSTAMP:20260423T073439Z
DTSTART:20251209T090000Z
DTEND:20251209T104000Z
SUMMARY:Менеджмент качества (на английском языке)
LOCATION:Хим. к. 31
END:VEVENT
BEGIN:VEVENT
UID:elcw@192.168.245.71:3006
SEQUENCE:0
DTSTAMP:20260423T073439Z
DTSTART:20251211T070000Z
DTEND:20251211T084000Z
SUMMARY:Технологии изготовления изделий из полимерных материалов с примене
 нием аддитивных технологий (на английском языке)
LOCATION:Хим. к. 56
END:VEVENT
BEGIN:VEVENT
UID:f4ld@192.168.245.71:3006
SEQUENCE:0
DTSTAMP:20260423T073439Z
DTSTART:20251211T090000Z
DTEND:20251211T104000Z
SUMMARY:Технологии получения материалов (на английском языке)
LOCATION:Хим. к. 31
END:VEVENT
BEGIN:VEVENT
UID:d447@192.168.245.71:3006
SEQUENCE:0
DTSTAMP:20260423T073439Z
DTSTART:20251211T110000Z
DTEND:20251211T124000Z
SUMMARY:Технологии получения материалов (на английском языке)
LOCATION:Хим. к. 56
END:VEVENT
BEGIN:VEVENT
UID:h8s9@192.168.245.71:3006
SEQUENCE:0
DTSTAMP:20260423T073439Z
DTSTART:20251211T130000Z
DTEND:20251211T144000Z
SUMMARY:Математическое моделирование процессов (на английском языке)
LOCATION:Хим. к. 31
END:VEVENT
BEGIN:VEVENT
UID:nstl@192.168.245.71:3006
SEQUENCE:0
DTSTAMP:20260423T073439Z
DTSTART:20251212T070000Z
DTEND:20251212T084000Z
SUMMARY:Математическое моделирование процессов (на английском языке)
LOCATION:Хим. к. 64
END:VEVENT
BEGIN:VEVENT
UID:qg22@192.168.245.71:3006
SEQUENCE:0
DTSTAMP:20260423T073439Z
DTSTART:20251212T090000Z
DTEND:20251212T104000Z
SUMMARY:Менеджмент качества (на английском языке)
LOCATION:Хим. к. 31
END:VEVENT
BEGIN:VEVENT
UID:lmzl@192.168.245.71:3006
SEQUENCE:0
DTSTAMP:20260423T073439Z
DTSTART:20251212T110000Z
DTEND:20251212T124000Z
SUMMARY:Композиционные материалы (на английском языке)
LOCATION:Хим. к. 55
END:VEVENT
END:VCALENDAR