BEGIN:VCALENDAR
VERSION:2.0
PRODID:-//spbstu.ru//ical//RU
NAME:Расписание группы 3342201/40801
X-WR-CALNAME:Расписание группы 3342201/40801
TIMEZONE-ID:Europe/Moscow
X-WR-TIMEZONE:Europe/Moscow
BEGIN:VEVENT
UID:j1zw@192.168.245.71:3006
SEQUENCE:0
DTSTAMP:20260425T032311Z
DTSTART:20250909T070000Z
DTEND:20250909T084000Z
SUMMARY:Технологии изготовления изделий из полимерных материалов с примене
 нием аддитивных технологий (на английском языке)
LOCATION:Хим. к. 31
END:VEVENT
BEGIN:VEVENT
UID:bj7u@192.168.245.71:3006
SEQUENCE:0
DTSTAMP:20260425T032311Z
DTSTART:20250911T070000Z
DTEND:20250911T084000Z
SUMMARY:Технологии изготовления изделий из полимерных материалов с примене
 нием аддитивных технологий (на английском языке)
LOCATION:Хим. к. 56
END:VEVENT
BEGIN:VEVENT
UID:bztt@192.168.245.71:3006
SEQUENCE:0
DTSTAMP:20260425T032311Z
DTSTART:20250911T090000Z
DTEND:20250911T104000Z
SUMMARY:Технологии получения материалов (на английском языке)
LOCATION:Хим. к. 31
END:VEVENT
BEGIN:VEVENT
UID:hj4n@192.168.245.71:3006
SEQUENCE:0
DTSTAMP:20260425T032311Z
DTSTART:20250911T130000Z
DTEND:20250911T144000Z
SUMMARY:Математическое моделирование процессов (на английском языке)
LOCATION:Хим. к. 31
END:VEVENT
BEGIN:VEVENT
UID:h6mn@192.168.245.71:3006
SEQUENCE:0
DTSTAMP:20260425T032311Z
DTSTART:20250912T070000Z
DTEND:20250912T084000Z
SUMMARY:Математическое моделирование процессов (на английском языке)
LOCATION:Хим. к. 64
END:VEVENT
BEGIN:VEVENT
UID:axdz@192.168.245.71:3006
SEQUENCE:0
DTSTAMP:20260425T032311Z
DTSTART:20250912T110000Z
DTEND:20250912T124000Z
SUMMARY:Композиционные материалы (на английском языке)
LOCATION:Хим. к. 51
END:VEVENT
END:VCALENDAR