BEGIN:VCALENDAR
VERSION:2.0
PRODID:-//spbstu.ru//ical//RU
NAME:Расписание группы 3342201/40801
X-WR-CALNAME:Расписание группы 3342201/40801
TIMEZONE-ID:Europe/Moscow
X-WR-TIMEZONE:Europe/Moscow
BEGIN:VEVENT
UID:92q3@192.168.245.71:3006
SEQUENCE:0
DTSTAMP:20260421T051519Z
DTSTART:20260421T110000Z
DTEND:20260421T133000Z
SUMMARY:Разработка технологии получения изделия методами аддитивных технол
 огий (на английском языке)
LOCATION:Хим. к. 31
END:VEVENT
BEGIN:VEVENT
UID:ibjr@192.168.245.71:3006
SEQUENCE:0
DTSTAMP:20260421T051519Z
DTSTART:20260423T070000Z
DTEND:20260423T084000Z
SUMMARY:Разработка технологии получения изделия методами аддитивных технол
 огий (на английском языке)
LOCATION:Хим. к. 56
END:VEVENT
BEGIN:VEVENT
UID:eitx@192.168.245.71:3006
SEQUENCE:0
DTSTAMP:20260421T051519Z
DTSTART:20260423T090000Z
DTEND:20260423T104000Z
SUMMARY:Проектирование изделий для аддитивного производства (на английском
  языке)
LOCATION:Хим. к. 56
END:VEVENT
BEGIN:VEVENT
UID:oq8e@192.168.245.71:3006
SEQUENCE:0
DTSTAMP:20260421T051519Z
DTSTART:20260423T110000Z
DTEND:20260423T124000Z
SUMMARY:Постобработка и контроль качества аддитивного производства (на анг
 лийском языке)
LOCATION:Хим. к. 56
END:VEVENT
BEGIN:VEVENT
UID:xbwo@192.168.245.71:3006
SEQUENCE:0
DTSTAMP:20260421T051519Z
DTSTART:20260423T130000Z
DTEND:20260423T144000Z
SUMMARY:Проектирование изделий для аддитивного производства (на английском
  языке)
LOCATION:Хим. к. 56
END:VEVENT
END:VCALENDAR