BEGIN:VCALENDAR
VERSION:2.0
PRODID:-//spbstu.ru//ical//RU
NAME:Расписание группы 3342201/40801
X-WR-CALNAME:Расписание группы 3342201/40801
TIMEZONE-ID:Europe/Moscow
X-WR-TIMEZONE:Europe/Moscow
BEGIN:VEVENT
UID:yuj7@192.168.245.71:3006
SEQUENCE:0
DTSTAMP:20260421T132615Z
DTSTART:20260407T110000Z
DTEND:20260407T133000Z
SUMMARY:Разработка технологии получения изделия методами аддитивных технол
 огий (на английском языке)
LOCATION:Хим. к. 31
END:VEVENT
BEGIN:VEVENT
UID:ec9f@192.168.245.71:3006
SEQUENCE:0
DTSTAMP:20260421T132615Z
DTSTART:20260409T070000Z
DTEND:20260409T084000Z
SUMMARY:Разработка технологии получения изделия методами аддитивных технол
 огий (на английском языке)
LOCATION:Хим. к. 56
END:VEVENT
BEGIN:VEVENT
UID:8u12@192.168.245.71:3006
SEQUENCE:0
DTSTAMP:20260421T132615Z
DTSTART:20260409T090000Z
DTEND:20260409T104000Z
SUMMARY:Проектирование изделий для аддитивного производства (на английском
  языке)
LOCATION:Хим. к. 56
END:VEVENT
BEGIN:VEVENT
UID:5miz@192.168.245.71:3006
SEQUENCE:0
DTSTAMP:20260421T132615Z
DTSTART:20260409T110000Z
DTEND:20260409T124000Z
SUMMARY:Постобработка и контроль качества аддитивного производства (на анг
 лийском языке)
LOCATION:Хим. к. 56
END:VEVENT
BEGIN:VEVENT
UID:i4jj@192.168.245.71:3006
SEQUENCE:0
DTSTAMP:20260421T132615Z
DTSTART:20260409T130000Z
DTEND:20260409T144000Z
SUMMARY:Проектирование изделий для аддитивного производства (на английском
  языке)
LOCATION:Хим. к. 56
END:VEVENT
END:VCALENDAR