BEGIN:VCALENDAR
VERSION:2.0
PRODID:-//spbstu.ru//ical//RU
NAME:Расписание группы 3342201/41001
X-WR-CALNAME:Расписание группы 3342201/41001
TIMEZONE-ID:Europe/Moscow
X-WR-TIMEZONE:Europe/Moscow
BEGIN:VEVENT
UID:6xsn@192.168.245.71:3006
SEQUENCE:0
DTSTAMP:20260421T085036Z
DTSTART:20260512T090000Z
DTEND:20260512T104000Z
SUMMARY:Выбор материалов и разработка технологии для получения изделий раз
 личного назначения методами аддитивного производства
LOCATION:Хим. к. 56
END:VEVENT
BEGIN:VEVENT
UID:xpzs@192.168.245.71:3006
SEQUENCE:0
DTSTAMP:20260421T085036Z
DTSTART:20260512T110000Z
DTEND:20260512T124000Z
SUMMARY:Технологии изготовления изделий из полимерных материалов с примене
 нием аддитивных технологий
LOCATION:Хим. к. 56
END:VEVENT
BEGIN:VEVENT
UID:rrhr@192.168.245.71:3006
SEQUENCE:0
DTSTAMP:20260421T085036Z
DTSTART:20260512T130000Z
DTEND:20260512T144000Z
SUMMARY:Постобработка и контроль качества аддитивного производства
LOCATION:Хим. к. 56
END:VEVENT
BEGIN:VEVENT
UID:kqx7@192.168.245.71:3006
SEQUENCE:0
DTSTAMP:20260421T085036Z
DTSTART:20260512T150000Z
DTEND:20260512T164000Z
SUMMARY:Постобработка и контроль качества аддитивного производства
LOCATION:Хим. к. 31
END:VEVENT
END:VCALENDAR