BEGIN:VCALENDAR
VERSION:2.0
PRODID:-//spbstu.ru//ical//RU
NAME:Расписание группы 3342201/41201
X-WR-CALNAME:Расписание группы 3342201/41201
TIMEZONE-ID:Europe/Moscow
X-WR-TIMEZONE:Europe/Moscow
BEGIN:VEVENT
UID:gg79@192.168.245.71:3006
SEQUENCE:0
DTSTAMP:20260425T135225Z
DTSTART:20251029T090000Z
DTEND:20251029T104000Z
SUMMARY:Математическое моделирование процессов пластического деформировани
 я металлических материалов
LOCATION:Хим. к. 56
END:VEVENT
BEGIN:VEVENT
UID:srud@192.168.245.71:3006
SEQUENCE:0
DTSTAMP:20260425T135225Z
DTSTART:20251029T110000Z
DTEND:20251029T124000Z
SUMMARY:Математическое моделирование процессов пластического деформировани
 я металлических материалов
LOCATION:Хим. к. 56
END:VEVENT
BEGIN:VEVENT
UID:x5ck@192.168.245.71:3006
SEQUENCE:0
DTSTAMP:20260425T135225Z
DTSTART:20251029T130000Z
DTEND:20251029T144000Z
SUMMARY:Кадровое обеспечение производства
LOCATION:Хим. к. 24
END:VEVENT
BEGIN:VEVENT
UID:ujax@192.168.245.71:3006
SEQUENCE:0
DTSTAMP:20260425T135225Z
DTSTART:20251030T110000Z
DTEND:20251030T124000Z
SUMMARY:Кадровое обеспечение производства
LOCATION:Хим. к. 52
END:VEVENT
BEGIN:VEVENT
UID:snge@192.168.245.71:3006
SEQUENCE:0
DTSTAMP:20260425T135225Z
DTSTART:20251030T130000Z
DTEND:20251030T153000Z
SUMMARY:Компьютерные технологии в материаловедении
LOCATION:Хим. к. 64
END:VEVENT
END:VCALENDAR