BEGIN:VCALENDAR
VERSION:2.0
PRODID:-//spbstu.ru//ical//RU
NAME:Расписание группы 3342201/41201
X-WR-CALNAME:Расписание группы 3342201/41201
TIMEZONE-ID:Europe/Moscow
X-WR-TIMEZONE:Europe/Moscow
BEGIN:VEVENT
UID:6ivd@192.168.245.71:3006
SEQUENCE:0
DTSTAMP:20260421T232306Z
DTSTART:20260326T090000Z
DTEND:20260326T104000Z
SUMMARY:Физическое и математическое моделирование процессов формирования с
 труктуры и свойств металлов и сплавов
LOCATION:Хим. к. 24
END:VEVENT
BEGIN:VEVENT
UID:g0qt@192.168.245.71:3006
SEQUENCE:0
DTSTAMP:20260421T232306Z
DTSTART:20260326T110000Z
DTEND:20260326T133000Z
SUMMARY:Физическое и математическое моделирование процессов формирования с
 труктуры и свойств металлов и сплавов
LOCATION:Хим. к. 82
END:VEVENT
BEGIN:VEVENT
UID:o3hz@192.168.245.71:3006
SEQUENCE:0
DTSTAMP:20260421T232306Z
DTSTART:20260327T090000Z
DTEND:20260327T104000Z
SUMMARY:Разработка технологии и инструмента для получения порошковых и ком
 позиционных материалов различного назначения
LOCATION:Хим. к. 82
END:VEVENT
BEGIN:VEVENT
UID:afv0@192.168.245.71:3006
SEQUENCE:0
DTSTAMP:20260421T232306Z
DTSTART:20260327T110000Z
DTEND:20260327T124000Z
SUMMARY:Разработка технологии и инструмента для получения порошковых и ком
 позиционных материалов различного назначения
LOCATION:Хим. к. 82
END:VEVENT
END:VCALENDAR