BEGIN:VCALENDAR
VERSION:2.0
PRODID:-//spbstu.ru//ical//RU
NAME:Расписание группы 3342202/41101
X-WR-CALNAME:Расписание группы 3342202/41101
TIMEZONE-ID:Europe/Moscow
X-WR-TIMEZONE:Europe/Moscow
BEGIN:VEVENT
UID:6bqn@192.168.245.71:3006
SEQUENCE:0
DTSTAMP:20260425T191951Z
DTSTART:20250922T090000Z
DTEND:20250922T104000Z
SUMMARY:Производство отливок из стали
LOCATION:Лит.к. лаб.1
END:VEVENT
BEGIN:VEVENT
UID:xxof@192.168.245.71:3006
SEQUENCE:0
DTSTAMP:20260425T191951Z
DTSTART:20250923T070000Z
DTEND:20250923T084000Z
SUMMARY:Производство отливок из стали
LOCATION:Лит.к. лаб.1
END:VEVENT
BEGIN:VEVENT
UID:y7d6@192.168.245.71:3006
SEQUENCE:0
DTSTAMP:20260425T191951Z
DTSTART:20250923T090000Z
DTEND:20250923T104000Z
SUMMARY:Менеджмент качества
LOCATION:Лит.к. лаб.7
END:VEVENT
BEGIN:VEVENT
UID:scso@192.168.245.71:3006
SEQUENCE:0
DTSTAMP:20260425T191951Z
DTSTART:20250924T070000Z
DTEND:20250924T084000Z
SUMMARY:Технология внепечной обработки стали
LOCATION:ЛабК 39
END:VEVENT
BEGIN:VEVENT
UID:vfvk@192.168.245.71:3006
SEQUENCE:0
DTSTAMP:20260425T191951Z
DTSTART:20250924T090000Z
DTEND:20250924T104000Z
SUMMARY:Технология внепечной обработки стали
LOCATION:ЛабК 39
END:VEVENT
BEGIN:VEVENT
UID:zc73@192.168.245.71:3006
SEQUENCE:0
DTSTAMP:20260425T191951Z
DTSTART:20250924T110000Z
DTEND:20250924T124000Z
SUMMARY:Металлургическая экспертиза
LOCATION:ЛабК 39
END:VEVENT
BEGIN:VEVENT
UID:jfb1@192.168.245.71:3006
SEQUENCE:0
DTSTAMP:20260425T191951Z
DTSTART:20250924T130000Z
DTEND:20250924T144000Z
SUMMARY:Металлургическая экспертиза
LOCATION:ЛабК 39
END:VEVENT
BEGIN:VEVENT
UID:1jfr@192.168.245.71:3006
SEQUENCE:0
DTSTAMP:20260425T191951Z
DTSTART:20250925T070000Z
DTEND:20250925T084000Z
SUMMARY:Компьютерное моделирование литейных процессов
LOCATION:Лит.к. лаб.2
END:VEVENT
BEGIN:VEVENT
UID:oz24@192.168.245.71:3006
SEQUENCE:0
DTSTAMP:20260425T191951Z
DTSTART:20250925T090000Z
DTEND:20250925T104000Z
SUMMARY:Компьютерное моделирование литейных процессов
LOCATION:Лит.к. лаб.2
END:VEVENT
BEGIN:VEVENT
UID:6i84@192.168.245.71:3006
SEQUENCE:0
DTSTAMP:20260425T191951Z
DTSTART:20250925T090000Z
DTEND:20250925T104000Z
SUMMARY:Металлургия легких металлов
LOCATION:Хим. к. 66
END:VEVENT
BEGIN:VEVENT
UID:kzqj@192.168.245.71:3006
SEQUENCE:0
DTSTAMP:20260425T191951Z
DTSTART:20250925T110000Z
DTEND:20250925T124000Z
SUMMARY:Металлургия легких металлов
LOCATION:Хим. к. 66
END:VEVENT
BEGIN:VEVENT
UID:kz8m@192.168.245.71:3006
SEQUENCE:0
DTSTAMP:20260425T191951Z
DTSTART:20250925T130000Z
DTEND:20250925T144000Z
SUMMARY:Электрохимические технологии в гидрометаллургии и гальванотехнике
LOCATION:Хим. к. 66
END:VEVENT
BEGIN:VEVENT
UID:g1e2@192.168.245.71:3006
SEQUENCE:0
DTSTAMP:20260425T191951Z
DTSTART:20250925T130000Z
DTEND:20250925T144000Z
SUMMARY:Производство отливок из цветных металлов и сплавов
LOCATION:Лит.к. лаб.1
END:VEVENT
END:VCALENDAR