BEGIN:VCALENDAR
VERSION:2.0
PRODID:-//spbstu.ru//ical//RU
NAME:Расписание группы 3342202/41101
X-WR-CALNAME:Расписание группы 3342202/41101
TIMEZONE-ID:Europe/Moscow
X-WR-TIMEZONE:Europe/Moscow
BEGIN:VEVENT
UID:ipbg@192.168.245.71:3006
SEQUENCE:0
DTSTAMP:20260421T192044Z
DTSTART:20260518T080000Z
DTEND:20260518T110000Z
SUMMARY:Литейные дефекты и контроль качества отливок
LOCATION:Лит.к. лаб.7
END:VEVENT
BEGIN:VEVENT
UID:kj04@192.168.245.71:3006
SEQUENCE:0
DTSTAMP:20260421T192044Z
DTSTART:20260518T110000Z
DTEND:20260518T140000Z
SUMMARY:Совершенствование сквозной технологии производства стали
LOCATION:Хим. к. 44
END:VEVENT
BEGIN:VEVENT
UID:ihdk@192.168.245.71:3006
SEQUENCE:0
DTSTAMP:20260421T192044Z
DTSTART:20260519T130000Z
DTEND:20260519T134500Z
SUMMARY:Металлургия редких и благородных металлов
LOCATION:Хим. к. 15
END:VEVENT
BEGIN:VEVENT
UID:gscw@192.168.245.71:3006
SEQUENCE:0
DTSTAMP:20260421T192044Z
DTSTART:20260519T140000Z
DTEND:20260519T170000Z
SUMMARY:Металлургия редких и благородных металлов
LOCATION:Хим. к. 15
END:VEVENT
BEGIN:VEVENT
UID:a1gr@192.168.245.71:3006
SEQUENCE:0
DTSTAMP:20260421T192044Z
DTSTART:20260520T090000Z
DTEND:20260520T120000Z
SUMMARY:Художественное литье
LOCATION:Лит.к. лаб.7
END:VEVENT
BEGIN:VEVENT
UID:h089@192.168.245.71:3006
SEQUENCE:0
DTSTAMP:20260421T192044Z
DTSTART:20260520T130000Z
DTEND:20260520T160000Z
SUMMARY:САПР литейного производства
LOCATION:Хим. к. 64
END:VEVENT
BEGIN:VEVENT
UID:6oam@192.168.245.71:3006
SEQUENCE:0
DTSTAMP:20260421T192044Z
DTSTART:20260521T070000Z
DTEND:20260521T074500Z
SUMMARY:Металлургическая экспертиза
LOCATION:ЛабК 85а
END:VEVENT
BEGIN:VEVENT
UID:4byw@192.168.245.71:3006
SEQUENCE:0
DTSTAMP:20260421T192044Z
DTSTART:20260521T080000Z
DTEND:20260521T120000Z
SUMMARY:Металлургическая экспертиза
LOCATION:ЛабК 85а
END:VEVENT
BEGIN:VEVENT
UID:4vit@192.168.245.71:3006
SEQUENCE:0
DTSTAMP:20260421T192044Z
DTSTART:20260522T070000Z
DTEND:20260522T100000Z
SUMMARY:Проектирование цехов цветной металлургии
LOCATION:Хим. к. 66
END:VEVENT
BEGIN:VEVENT
UID:lfgd@192.168.245.71:3006
SEQUENCE:0
DTSTAMP:20260421T192044Z
DTSTART:20260522T100000Z
DTEND:20260522T130000Z
SUMMARY:Проектирование цехов цветной металлургии
LOCATION:Хим. к. 66
END:VEVENT
END:VCALENDAR