BEGIN:VCALENDAR
VERSION:2.0
PRODID:-//spbstu.ru//ical//RU
NAME:Расписание группы 3342301/40101
X-WR-CALNAME:Расписание группы 3342301/40101
TIMEZONE-ID:Europe/Moscow
X-WR-TIMEZONE:Europe/Moscow
BEGIN:VEVENT
UID:g2gn@192.168.245.71:3006
SEQUENCE:0
DTSTAMP:20260426T011709Z
DTSTART:20251020T150000Z
DTEND:20251020T164000Z
SUMMARY:Ресурсный менеджмент
LOCATION:ЛабК 85а
END:VEVENT
BEGIN:VEVENT
UID:0a85@192.168.245.71:3006
SEQUENCE:0
DTSTAMP:20260426T011709Z
DTSTART:20251021T130000Z
DTEND:20251021T144000Z
SUMMARY:История и методология науки
LOCATION:ЛабК 85 ВШТ
END:VEVENT
BEGIN:VEVENT
UID:9y6w@192.168.245.71:3006
SEQUENCE:0
DTSTAMP:20260426T011709Z
DTSTART:20251021T150000Z
DTEND:20251021T164000Z
SUMMARY:История и методология науки
LOCATION:ЛабК 85а
END:VEVENT
BEGIN:VEVENT
UID:c6w0@192.168.245.71:3006
SEQUENCE:0
DTSTAMP:20260426T011709Z
DTSTART:20251022T150000Z
DTEND:20251022T164000Z
SUMMARY:Информационные технологии на транспорте
LOCATION:ЛабК комп.класс ВШТ
END:VEVENT
BEGIN:VEVENT
UID:0j7p@192.168.245.71:3006
SEQUENCE:0
DTSTAMP:20260426T011709Z
DTSTART:20251023T150000Z
DTEND:20251023T164000Z
SUMMARY:Информационные технологии на транспорте
LOCATION:ЛабК комп.класс ВШТ
END:VEVENT
BEGIN:VEVENT
UID:tys5@192.168.245.71:3006
SEQUENCE:0
DTSTAMP:20260426T011709Z
DTSTART:20251024T110000Z
DTEND:20251024T124000Z
SUMMARY:Организация мультимодальных перевозок
LOCATION:ЛабК 85а
END:VEVENT
BEGIN:VEVENT
UID:4guc@192.168.245.71:3006
SEQUENCE:0
DTSTAMP:20260426T011709Z
DTSTART:20251025T130000Z
DTEND:20251025T144000Z
SUMMARY:Логистические терминалы
LOCATION:ЛабК комп.класс ВШТ
END:VEVENT
END:VCALENDAR