BEGIN:VCALENDAR
VERSION:2.0
PRODID:-//spbstu.ru//ical//RU
NAME:Расписание группы 3342301/40101
X-WR-CALNAME:Расписание группы 3342301/40101
TIMEZONE-ID:Europe/Moscow
X-WR-TIMEZONE:Europe/Moscow
BEGIN:VEVENT
UID:pbsj@192.168.245.71:3006
SEQUENCE:0
DTSTAMP:20260424T205945Z
DTSTART:20251222T090000Z
DTEND:20251222T104000Z
SUMMARY:Ресурсный менеджмент
LOCATION:ЛабК 85б
END:VEVENT
BEGIN:VEVENT
UID:v8ha@192.168.245.71:3006
SEQUENCE:0
DTSTAMP:20260424T205945Z
DTSTART:20251224T130000Z
DTEND:20251224T144000Z
SUMMARY:История и методология науки
LOCATION:ЛабК 85а
END:VEVENT
BEGIN:VEVENT
UID:oerr@192.168.245.71:3006
SEQUENCE:0
DTSTAMP:20260424T205945Z
DTSTART:20251226T070000Z
DTEND:20251226T074500Z
SUMMARY:Устойчивое развитие транспортных систем
LOCATION:ЛабК 85а
END:VEVENT
BEGIN:VEVENT
UID:c5cd@192.168.245.71:3006
SEQUENCE:0
DTSTAMP:20260424T205945Z
DTSTART:20251226T090000Z
DTEND:20251226T124000Z
SUMMARY:Устойчивое развитие транспортных систем
LOCATION:ЛабК 85а
END:VEVENT
END:VCALENDAR