BEGIN:VCALENDAR
VERSION:2.0
PRODID:-//spbstu.ru//ical//RU
NAME:Расписание группы 3342702/40401
X-WR-CALNAME:Расписание группы 3342702/40401
TIMEZONE-ID:Europe/Moscow
X-WR-TIMEZONE:Europe/Moscow
BEGIN:VEVENT
UID:vuyw@192.168.245.71:3006
SEQUENCE:0
DTSTAMP:20260425T172652Z
DTSTART:20251217T130000Z
DTEND:20251217T144000Z
SUMMARY:Защита интеллектуальной собственности
LOCATION:11 к. 345
END:VEVENT
BEGIN:VEVENT
UID:kdum@192.168.245.71:3006
SEQUENCE:0
DTSTAMP:20260425T172652Z
DTSTART:20251217T150000Z
DTEND:20251217T164000Z
SUMMARY:Статистические методы в управлении качеством
LOCATION:11 к. 344
END:VEVENT
BEGIN:VEVENT
UID:4cxt@192.168.245.71:3006
SEQUENCE:0
DTSTAMP:20260425T172652Z
DTSTART:20251219T130000Z
DTEND:20251219T144000Z
SUMMARY:Проектирование документов в области управления качеством
LOCATION:11 к. 345
END:VEVENT
END:VCALENDAR