BEGIN:VCALENDAR
VERSION:2.0
PRODID:-//spbstu.ru//ical//RU
NAME:Расписание группы 3342904/40101
X-WR-CALNAME:Расписание группы 3342904/40101
TIMEZONE-ID:Europe/Moscow
X-WR-TIMEZONE:Europe/Moscow
BEGIN:VEVENT
UID:herj@192.168.245.71:3006
SEQUENCE:0
DTSTAMP:20260425T230050Z
DTSTART:20251008T130000Z
DTEND:20251008T144000Z
SUMMARY:Художественное проектирование изделий из стекла и ансамблей на его
  основе
LOCATION:11 к. Маштех
END:VEVENT
BEGIN:VEVENT
UID:4l2n@192.168.245.71:3006
SEQUENCE:0
DTSTAMP:20260425T230050Z
DTSTART:20251008T150000Z
DTEND:20251008T155000Z
SUMMARY:Художественное проектирование изделий из стекла и ансамблей на его
  основе
LOCATION:11 к. Маштех
END:VEVENT
BEGIN:VEVENT
UID:h6wg@192.168.245.71:3006
SEQUENCE:0
DTSTAMP:20260425T230050Z
DTSTART:20251010T110000Z
DTEND:20251010T124000Z
SUMMARY:Менеджмент качества
LOCATION:Хим. к. Прокатка2
END:VEVENT
BEGIN:VEVENT
UID:3uez@192.168.245.71:3006
SEQUENCE:0
DTSTAMP:20260425T230050Z
DTSTART:20251010T130000Z
DTEND:20251010T144000Z
SUMMARY:Организация современного производства художественных изделий
LOCATION:Хим. к. 56
END:VEVENT
END:VCALENDAR