BEGIN:VCALENDAR
VERSION:2.0
PRODID:-//spbstu.ru//ical//RU
NAME:Расписание группы 3342904/40101
X-WR-CALNAME:Расписание группы 3342904/40101
TIMEZONE-ID:Europe/Moscow
X-WR-TIMEZONE:Europe/Moscow
BEGIN:VEVENT
UID:qex5@192.168.245.71:3006
SEQUENCE:0
DTSTAMP:20260425T192603Z
DTSTART:20250924T130000Z
DTEND:20250924T144000Z
SUMMARY:Художественное проектирование изделий из стекла и ансамблей на его
  основе
LOCATION:11 к. Маштех
END:VEVENT
BEGIN:VEVENT
UID:konk@192.168.245.71:3006
SEQUENCE:0
DTSTAMP:20260425T192603Z
DTSTART:20250924T150000Z
DTEND:20250924T155000Z
SUMMARY:Художественное проектирование изделий из стекла и ансамблей на его
  основе
LOCATION:11 к. Маштех
END:VEVENT
BEGIN:VEVENT
UID:beii@192.168.245.71:3006
SEQUENCE:0
DTSTAMP:20260425T192603Z
DTSTART:20250925T110000Z
DTEND:20250925T124000Z
SUMMARY:Кадровое обеспечение производства
LOCATION:Хим. к. 44
END:VEVENT
BEGIN:VEVENT
UID:zhiz@192.168.245.71:3006
SEQUENCE:0
DTSTAMP:20260425T192603Z
DTSTART:20250926T110000Z
DTEND:20250926T124000Z
SUMMARY:Менеджмент качества
LOCATION:Хим. к. Прокатка2
END:VEVENT
BEGIN:VEVENT
UID:dyuo@192.168.245.71:3006
SEQUENCE:0
DTSTAMP:20260425T192603Z
DTSTART:20250926T130000Z
DTEND:20250926T144000Z
SUMMARY:Организация современного производства художественных изделий
LOCATION:Хим. к. 56
END:VEVENT
END:VCALENDAR