BEGIN:VCALENDAR
VERSION:2.0
PRODID:-//spbstu.ru//ical//RU
NAME:Расписание группы 3352301/40002
X-WR-CALNAME:Расписание группы 3352301/40002
TIMEZONE-ID:Europe/Moscow
X-WR-TIMEZONE:Europe/Moscow
BEGIN:VEVENT
UID:08iv@192.168.245.71:3006
SEQUENCE:0
DTSTAMP:20260421T132929Z
DTSTART:20260316T090000Z
DTEND:20260316T104000Z
SUMMARY:Элективная физическая культура и спорт
LOCATION:СК Секции
END:VEVENT
BEGIN:VEVENT
UID:ba8g@192.168.245.71:3006
SEQUENCE:0
DTSTAMP:20260421T132929Z
DTSTART:20260316T110000Z
DTEND:20260316T124000Z
SUMMARY:Безопасность жизнедеятельности
LOCATION:ГК 106
END:VEVENT
BEGIN:VEVENT
UID:lnfx@192.168.245.71:3006
SEQUENCE:0
DTSTAMP:20260421T132929Z
DTSTART:20260316T130000Z
DTEND:20260316T144000Z
SUMMARY:Безопасность жизнедеятельности
LOCATION:1 к. 41
END:VEVENT
BEGIN:VEVENT
UID:nfbl@192.168.245.71:3006
SEQUENCE:0
DTSTAMP:20260421T132929Z
DTSTART:20260317T110000Z
DTEND:20260317T124000Z
SUMMARY:Технология конструкционных материалов
LOCATION:ГЗ 329
END:VEVENT
BEGIN:VEVENT
UID:lzpg@192.168.245.71:3006
SEQUENCE:0
DTSTAMP:20260421T132929Z
DTSTART:20260317T130000Z
DTEND:20260317T144000Z
SUMMARY:Детали машин и основы конструирования
LOCATION:ГЗ 232
END:VEVENT
BEGIN:VEVENT
UID:m5qq@192.168.245.71:3006
SEQUENCE:0
DTSTAMP:20260421T132929Z
DTSTART:20260318T090000Z
DTEND:20260318T104000Z
SUMMARY:Основы автоматизации проектирования машин
LOCATION:ТВН 301ВШТ
END:VEVENT
BEGIN:VEVENT
UID:xa71@192.168.245.71:3006
SEQUENCE:0
DTSTAMP:20260421T132929Z
DTSTART:20260318T110000Z
DTEND:20260318T124000Z
SUMMARY:Иностранный язык. Профессионально-ориентированный курс
LOCATION:ТВН 309ВШТ
END:VEVENT
BEGIN:VEVENT
UID:3x2f@192.168.245.71:3006
SEQUENCE:0
DTSTAMP:20260421T132929Z
DTSTART:20260318T130000Z
DTEND:20260318T144000Z
SUMMARY:Сопротивление материалов
LOCATION:1 к. 440
END:VEVENT
BEGIN:VEVENT
UID:3weg@192.168.245.71:3006
SEQUENCE:0
DTSTAMP:20260421T132929Z
DTSTART:20260319T070000Z
DTEND:20260319T084000Z
SUMMARY:Теория механизмов и машин
LOCATION:Мех. к. каф.Т ММ
END:VEVENT
BEGIN:VEVENT
UID:efjg@192.168.245.71:3006
SEQUENCE:0
DTSTAMP:20260421T132929Z
DTSTART:20260319T090000Z
DTEND:20260319T104000Z
SUMMARY:Детали машин и основы конструирования
LOCATION:ГЗ 327-2
END:VEVENT
BEGIN:VEVENT
UID:agfc@192.168.245.71:3006
SEQUENCE:0
DTSTAMP:20260421T132929Z
DTSTART:20260319T110000Z
DTEND:20260319T124000Z
SUMMARY:Элективная физическая культура и спорт
LOCATION:СК Секции
END:VEVENT
BEGIN:VEVENT
UID:iuv0@192.168.245.71:3006
SEQUENCE:0
DTSTAMP:20260421T132929Z
DTSTART:20260320T070000Z
DTEND:20260320T084000Z
SUMMARY:Основы проектной деятельности
LOCATION:ТВН 301ВШТ
END:VEVENT
BEGIN:VEVENT
UID:jnv1@192.168.245.71:3006
SEQUENCE:0
DTSTAMP:20260421T132929Z
DTSTART:20260321T070000Z
DTEND:20260321T084000Z
SUMMARY:Сопротивление материалов
LOCATION:Мех. к. БМ
END:VEVENT
BEGIN:VEVENT
UID:n90x@192.168.245.71:3006
SEQUENCE:0
DTSTAMP:20260421T132929Z
DTSTART:20260321T090000Z
DTEND:20260321T104000Z
SUMMARY:Электротехника
LOCATION:ГЗ 271
END:VEVENT
BEGIN:VEVENT
UID:nf9x@192.168.245.71:3006
SEQUENCE:0
DTSTAMP:20260421T132929Z
DTSTART:20260321T090000Z
DTEND:20260321T104000Z
SUMMARY:Электротехника
LOCATION:ГЗ 271
END:VEVENT
BEGIN:VEVENT
UID:sbp0@192.168.245.71:3006
SEQUENCE:0
DTSTAMP:20260421T132929Z
DTSTART:20260321T110000Z
DTEND:20260321T124000Z
SUMMARY:Электротехника
LOCATION:1 к. 440
END:VEVENT
BEGIN:VEVENT
UID:6bqv@192.168.245.71:3006
SEQUENCE:0
DTSTAMP:20260421T132929Z
DTSTART:20260321T130000Z
DTEND:20260321T144000Z
SUMMARY:Безопасность жизнедеятельности
LOCATION:ГК 118
END:VEVENT
END:VCALENDAR