BEGIN:VCALENDAR
VERSION:2.0
PRODID:-//spbstu.ru//ical//RU
NAME:Расписание группы 3352301/40002
X-WR-CALNAME:Расписание группы 3352301/40002
TIMEZONE-ID:Europe/Moscow
X-WR-TIMEZONE:Europe/Moscow
BEGIN:VEVENT
UID:e08n@192.168.245.71:3006
SEQUENCE:0
DTSTAMP:20260422T000159Z
DTSTART:20260302T090000Z
DTEND:20260302T104000Z
SUMMARY:Элективная физическая культура и спорт
LOCATION:СК Секции
END:VEVENT
BEGIN:VEVENT
UID:l8ql@192.168.245.71:3006
SEQUENCE:0
DTSTAMP:20260422T000159Z
DTSTART:20260302T110000Z
DTEND:20260302T124000Z
SUMMARY:Безопасность жизнедеятельности
LOCATION:ГК 106
END:VEVENT
BEGIN:VEVENT
UID:i7cw@192.168.245.71:3006
SEQUENCE:0
DTSTAMP:20260422T000159Z
DTSTART:20260302T130000Z
DTEND:20260302T144000Z
SUMMARY:Безопасность жизнедеятельности
LOCATION:1 к. 41
END:VEVENT
BEGIN:VEVENT
UID:dxk2@192.168.245.71:3006
SEQUENCE:0
DTSTAMP:20260422T000159Z
DTSTART:20260303T110000Z
DTEND:20260303T124000Z
SUMMARY:Технология конструкционных материалов
LOCATION:ГЗ 329
END:VEVENT
BEGIN:VEVENT
UID:o6bz@192.168.245.71:3006
SEQUENCE:0
DTSTAMP:20260422T000159Z
DTSTART:20260303T130000Z
DTEND:20260303T144000Z
SUMMARY:Детали машин и основы конструирования
LOCATION:ГЗ 232
END:VEVENT
BEGIN:VEVENT
UID:58ra@192.168.245.71:3006
SEQUENCE:0
DTSTAMP:20260422T000159Z
DTSTART:20260304T090000Z
DTEND:20260304T104000Z
SUMMARY:Основы автоматизации проектирования машин
LOCATION:ТВН 301ВШТ
END:VEVENT
BEGIN:VEVENT
UID:k6y3@192.168.245.71:3006
SEQUENCE:0
DTSTAMP:20260422T000159Z
DTSTART:20260304T110000Z
DTEND:20260304T124000Z
SUMMARY:Иностранный язык. Профессионально-ориентированный курс
LOCATION:ТВН 309ВШТ
END:VEVENT
BEGIN:VEVENT
UID:lsmm@192.168.245.71:3006
SEQUENCE:0
DTSTAMP:20260422T000159Z
DTSTART:20260304T130000Z
DTEND:20260304T144000Z
SUMMARY:Сопротивление материалов
LOCATION:1 к. 440
END:VEVENT
BEGIN:VEVENT
UID:1tbg@192.168.245.71:3006
SEQUENCE:0
DTSTAMP:20260422T000159Z
DTSTART:20260305T070000Z
DTEND:20260305T084000Z
SUMMARY:Теория механизмов и машин
LOCATION:Мех. к. каф.Т ММ
END:VEVENT
BEGIN:VEVENT
UID:ufcp@192.168.245.71:3006
SEQUENCE:0
DTSTAMP:20260422T000159Z
DTSTART:20260305T090000Z
DTEND:20260305T104000Z
SUMMARY:Детали машин и основы конструирования
LOCATION:ГЗ 327-2
END:VEVENT
BEGIN:VEVENT
UID:sdsd@192.168.245.71:3006
SEQUENCE:0
DTSTAMP:20260422T000159Z
DTSTART:20260305T110000Z
DTEND:20260305T124000Z
SUMMARY:Элективная физическая культура и спорт
LOCATION:СК Секции
END:VEVENT
BEGIN:VEVENT
UID:s9qg@192.168.245.71:3006
SEQUENCE:0
DTSTAMP:20260422T000159Z
DTSTART:20260307T070000Z
DTEND:20260307T084000Z
SUMMARY:Сопротивление материалов
LOCATION:Мех. к. БМ
END:VEVENT
BEGIN:VEVENT
UID:lzao@192.168.245.71:3006
SEQUENCE:0
DTSTAMP:20260422T000159Z
DTSTART:20260307T090000Z
DTEND:20260307T104000Z
SUMMARY:Электротехника
LOCATION:ГЗ 271
END:VEVENT
BEGIN:VEVENT
UID:2r9j@192.168.245.71:3006
SEQUENCE:0
DTSTAMP:20260422T000159Z
DTSTART:20260307T090000Z
DTEND:20260307T104000Z
SUMMARY:Электротехника
LOCATION:ГЗ 271
END:VEVENT
BEGIN:VEVENT
UID:l4ys@192.168.245.71:3006
SEQUENCE:0
DTSTAMP:20260422T000159Z
DTSTART:20260307T110000Z
DTEND:20260307T124000Z
SUMMARY:Электротехника
LOCATION:1 к. 440
END:VEVENT
END:VCALENDAR