BEGIN:VCALENDAR
VERSION:2.0
PRODID:-//spbstu.ru//ical//RU
NAME:Расписание группы 3331502/30301
X-WR-CALNAME:Расписание группы 3331502/30301
TIMEZONE-ID:Europe/Moscow
X-WR-TIMEZONE:Europe/Moscow
BEGIN:VEVENT
UID:jbcu@192.168.245.71:3006
SEQUENCE:0
DTSTAMP:20260424T205753Z
DTSTART:20250915T070000Z
DTEND:20250915T084000Z
SUMMARY:Элементная база интеллектуальных производственных систем
LOCATION:1 к. кафедра Автоматы
END:VEVENT
BEGIN:VEVENT
UID:0uiv@192.168.245.71:3006
SEQUENCE:0
DTSTAMP:20260424T205753Z
DTSTART:20250915T090000Z
DTEND:20250915T104000Z
SUMMARY:Теория автоматического управления
LOCATION:ГЗ 153
END:VEVENT
BEGIN:VEVENT
UID:dhqu@192.168.245.71:3006
SEQUENCE:0
DTSTAMP:20260424T205753Z
DTSTART:20250915T110000Z
DTEND:20250915T124000Z
SUMMARY:Электротехника
LOCATION:1 к. 422
END:VEVENT
BEGIN:VEVENT
UID:r8vx@192.168.245.71:3006
SEQUENCE:0
DTSTAMP:20260424T205753Z
DTSTART:20250915T130000Z
DTEND:20250915T144000Z
SUMMARY:Теория автоматического управления
LOCATION:1 к. кафедра Автоматы
END:VEVENT
BEGIN:VEVENT
UID:1o5f@192.168.245.71:3006
SEQUENCE:0
DTSTAMP:20260424T205753Z
DTSTART:20250915T150000Z
DTEND:20250915T155000Z
SUMMARY:Теория автоматического управления
LOCATION:ГЗ 265
END:VEVENT
BEGIN:VEVENT
UID:4487@192.168.245.71:3006
SEQUENCE:0
DTSTAMP:20260424T205753Z
DTSTART:20250916T070000Z
DTEND:20250916T084000Z
SUMMARY:Алгоритмы и методы машинного обучения
LOCATION:НИК В2.02
END:VEVENT
BEGIN:VEVENT
UID:spua@192.168.245.71:3006
SEQUENCE:0
DTSTAMP:20260424T205753Z
DTSTART:20250916T090000Z
DTEND:20250916T104000Z
SUMMARY:Основы производства печатной продукции
LOCATION:1 к. кафедра Автоматы
END:VEVENT
BEGIN:VEVENT
UID:nwmo@192.168.245.71:3006
SEQUENCE:0
DTSTAMP:20260424T205753Z
DTSTART:20250916T110000Z
DTEND:20250916T124000Z
SUMMARY:Основы производства печатной продукции
LOCATION:1 к. кафедра Автоматы
END:VEVENT
BEGIN:VEVENT
UID:mwvm@192.168.245.71:3006
SEQUENCE:0
DTSTAMP:20260424T205753Z
DTSTART:20250916T130000Z
DTEND:20250916T144000Z
SUMMARY:Алгоритмы и методы машинного обучения
LOCATION:1 к. кафедра Автоматы
END:VEVENT
BEGIN:VEVENT
UID:hhgs@192.168.245.71:3006
SEQUENCE:0
DTSTAMP:20260424T205753Z
DTSTART:20250917T070000Z
DTEND:20250917T084000Z
SUMMARY:Детали машин и основы конструирования
LOCATION:ГЗ 327-1
END:VEVENT
BEGIN:VEVENT
UID:52c8@192.168.245.71:3006
SEQUENCE:0
DTSTAMP:20260424T205753Z
DTSTART:20250917T090000Z
DTEND:20250917T104000Z
SUMMARY:Электротехника
LOCATION:1 к. 41
END:VEVENT
BEGIN:VEVENT
UID:w36r@192.168.245.71:3006
SEQUENCE:0
DTSTAMP:20260424T205753Z
DTSTART:20250917T130000Z
DTEND:20250917T144000Z
SUMMARY:САПР в машиностроении
LOCATION:1 к. кафедра Автоматы
END:VEVENT
BEGIN:VEVENT
UID:j8st@192.168.245.71:3006
SEQUENCE:0
DTSTAMP:20260424T205753Z
DTSTART:20250918T070000Z
DTEND:20250918T084000Z
SUMMARY:Метрология\, стандартизация и сертификация
LOCATION:1 к. 41
END:VEVENT
BEGIN:VEVENT
UID:a8sd@192.168.245.71:3006
SEQUENCE:0
DTSTAMP:20260424T205753Z
DTSTART:20250918T090000Z
DTEND:20250918T104000Z
SUMMARY:Элементная база интеллектуальных производственных систем
LOCATION:1 к. кафедра Автоматы
END:VEVENT
BEGIN:VEVENT
UID:nmi2@192.168.245.71:3006
SEQUENCE:0
DTSTAMP:20260424T205753Z
DTSTART:20250918T110000Z
DTEND:20250918T124000Z
SUMMARY:Вычислительная механика
LOCATION:ГЗ 327-3
END:VEVENT
BEGIN:VEVENT
UID:qhbv@192.168.245.71:3006
SEQUENCE:0
DTSTAMP:20260424T205753Z
DTSTART:20250918T130000Z
DTEND:20250918T144000Z
SUMMARY:Метрология\, стандартизация и сертификация
LOCATION:Мех. к. каф.Т М
END:VEVENT
BEGIN:VEVENT
UID:fzzo@192.168.245.71:3006
SEQUENCE:0
DTSTAMP:20260424T205753Z
DTSTART:20250918T130000Z
DTEND:20250918T144000Z
SUMMARY:Метрология\, стандартизация и сертификация
LOCATION:Мех. к. каф.Т М
END:VEVENT
BEGIN:VEVENT
UID:88ap@192.168.245.71:3006
SEQUENCE:0
DTSTAMP:20260424T205753Z
DTSTART:20250918T150000Z
DTEND:20250918T155000Z
SUMMARY:Метрология\, стандартизация и сертификация
LOCATION:Мех. к. каф.Т М
END:VEVENT
END:VCALENDAR