BEGIN:VCALENDAR
VERSION:2.0
PRODID:-//spbstu.ru//ical//RU
NAME:Расписание группы 3331502/30301
X-WR-CALNAME:Расписание группы 3331502/30301
TIMEZONE-ID:Europe/Moscow
X-WR-TIMEZONE:Europe/Moscow
BEGIN:VEVENT
UID:w9tu@192.168.245.71:3006
SEQUENCE:0
DTSTAMP:20260422T042651Z
DTSTART:20260210T060000Z
DTEND:20260210T065000Z
SUMMARY:Основы производства печатной продукции
LOCATION:1 к. 419
END:VEVENT
BEGIN:VEVENT
UID:72ju@192.168.245.71:3006
SEQUENCE:0
DTSTAMP:20260422T042651Z
DTSTART:20260210T070000Z
DTEND:20260210T084000Z
SUMMARY:Основы производства печатной продукции
LOCATION:1 к. 419
END:VEVENT
BEGIN:VEVENT
UID:9qop@192.168.245.71:3006
SEQUENCE:0
DTSTAMP:20260422T042651Z
DTSTART:20260210T090000Z
DTEND:20260210T104000Z
SUMMARY:Основы цифровых технологий
LOCATION:1 к. 419
END:VEVENT
BEGIN:VEVENT
UID:frty@192.168.245.71:3006
SEQUENCE:0
DTSTAMP:20260422T042651Z
DTSTART:20260210T110000Z
DTEND:20260210T124000Z
SUMMARY:Основы цифровых технологий
LOCATION:1 к. 419
END:VEVENT
BEGIN:VEVENT
UID:81q5@192.168.245.71:3006
SEQUENCE:0
DTSTAMP:20260422T042651Z
DTSTART:20260211T090000Z
DTEND:20260211T104000Z
SUMMARY:Теория автоматического управления
LOCATION:1 к. 41
END:VEVENT
BEGIN:VEVENT
UID:w3ix@192.168.245.71:3006
SEQUENCE:0
DTSTAMP:20260422T042651Z
DTSTART:20260211T110000Z
DTEND:20260211T124000Z
SUMMARY:Алгоритмы и методы машинного обучения
LOCATION:1 к. кафедра Автоматы
END:VEVENT
BEGIN:VEVENT
UID:apsl@192.168.245.71:3006
SEQUENCE:0
DTSTAMP:20260422T042651Z
DTSTART:20260211T130000Z
DTEND:20260211T144000Z
SUMMARY:Алгоритмы и методы машинного обучения
LOCATION:НИК В2.17
END:VEVENT
BEGIN:VEVENT
UID:jlfu@192.168.245.71:3006
SEQUENCE:0
DTSTAMP:20260422T042651Z
DTSTART:20260212T050000Z
DTEND:20260212T064000Z
SUMMARY:Основы технологии машиностроения
LOCATION:Мех. к. каф.Т М
END:VEVENT
BEGIN:VEVENT
UID:ack9@192.168.245.71:3006
SEQUENCE:0
DTSTAMP:20260422T042651Z
DTSTART:20260212T070000Z
DTEND:20260212T084000Z
SUMMARY:Электроника
LOCATION:ГЗ 271
END:VEVENT
BEGIN:VEVENT
UID:wwyp@192.168.245.71:3006
SEQUENCE:0
DTSTAMP:20260422T042651Z
DTSTART:20260212T070000Z
DTEND:20260212T084000Z
SUMMARY:Электроника
LOCATION:ГЗ 271
END:VEVENT
BEGIN:VEVENT
UID:hfjj@192.168.245.71:3006
SEQUENCE:0
DTSTAMP:20260422T042651Z
DTSTART:20260212T090000Z
DTEND:20260212T104000Z
SUMMARY:Теория автоматического управления
LOCATION:НИК В2.15
END:VEVENT
BEGIN:VEVENT
UID:678j@192.168.245.71:3006
SEQUENCE:0
DTSTAMP:20260422T042651Z
DTSTART:20260212T110000Z
DTEND:20260212T124000Z
SUMMARY:Электроника
LOCATION:ГЗ 215
END:VEVENT
BEGIN:VEVENT
UID:hy9f@192.168.245.71:3006
SEQUENCE:0
DTSTAMP:20260422T042651Z
DTSTART:20260214T070000Z
DTEND:20260214T084000Z
SUMMARY:Основы технологии машиностроения
LOCATION:ГЗ 232
END:VEVENT
END:VCALENDAR