BEGIN:VCALENDAR
VERSION:2.0
PRODID:-//spbstu.ru//ical//RU
NAME:Расписание группы 3331504/30301
X-WR-CALNAME:Расписание группы 3331504/30301
TIMEZONE-ID:Europe/Moscow
X-WR-TIMEZONE:Europe/Moscow
BEGIN:VEVENT
UID:iukv@192.168.245.71:3006
SEQUENCE:0
DTSTAMP:20260424T063843Z
DTSTART:20251103T060000Z
DTEND:20251103T065000Z
SUMMARY:Метрология\, стандартизация и сертификация
LOCATION:Мех. к. каф.Т М
END:VEVENT
BEGIN:VEVENT
UID:mufx@192.168.245.71:3006
SEQUENCE:0
DTSTAMP:20260424T063843Z
DTSTART:20251103T070000Z
DTEND:20251103T084000Z
SUMMARY:Метрология\, стандартизация и сертификация
LOCATION:Мех. к. каф.Т М
END:VEVENT
BEGIN:VEVENT
UID:5fy8@192.168.245.71:3006
SEQUENCE:0
DTSTAMP:20260424T063843Z
DTSTART:20251103T070000Z
DTEND:20251103T084000Z
SUMMARY:Метрология\, стандартизация и сертификация
LOCATION:Мех. к. каф.Т М
END:VEVENT
BEGIN:VEVENT
UID:rhqc@192.168.245.71:3006
SEQUENCE:0
DTSTAMP:20260424T063843Z
DTSTART:20251103T090000Z
DTEND:20251103T104000Z
SUMMARY:Теория автоматического управления
LOCATION:ГЗ 153
END:VEVENT
BEGIN:VEVENT
UID:m9ci@192.168.245.71:3006
SEQUENCE:0
DTSTAMP:20260424T063843Z
DTSTART:20251103T110000Z
DTEND:20251103T124000Z
SUMMARY:Теория автоматического управления
LOCATION:ГЗ 265
END:VEVENT
BEGIN:VEVENT
UID:po56@192.168.245.71:3006
SEQUENCE:0
DTSTAMP:20260424T063843Z
DTSTART:20251103T130000Z
DTEND:20251103T144000Z
SUMMARY:Вычислительная механика
LOCATION:ГЗ 232
END:VEVENT
BEGIN:VEVENT
UID:62lp@192.168.245.71:3006
SEQUENCE:0
DTSTAMP:20260424T063843Z
DTSTART:20251105T070000Z
DTEND:20251105T084000Z
SUMMARY:Основы автоматизации технологического оборудования и производств
LOCATION:1 к. 425
END:VEVENT
BEGIN:VEVENT
UID:bfqi@192.168.245.71:3006
SEQUENCE:0
DTSTAMP:20260424T063843Z
DTSTART:20251105T090000Z
DTEND:20251105T104000Z
SUMMARY:Электротехника
LOCATION:1 к. 41
END:VEVENT
BEGIN:VEVENT
UID:5qw7@192.168.245.71:3006
SEQUENCE:0
DTSTAMP:20260424T063843Z
DTSTART:20251105T110000Z
DTEND:20251105T124000Z
SUMMARY:Электротехника
LOCATION:1 к. 439
END:VEVENT
BEGIN:VEVENT
UID:569t@192.168.245.71:3006
SEQUENCE:0
DTSTAMP:20260424T063843Z
DTSTART:20251106T070000Z
DTEND:20251106T084000Z
SUMMARY:Метрология\, стандартизация и сертификация
LOCATION:1 к. 41
END:VEVENT
BEGIN:VEVENT
UID:ab5m@192.168.245.71:3006
SEQUENCE:0
DTSTAMP:20260424T063843Z
DTSTART:20251106T090000Z
DTEND:20251106T104000Z
SUMMARY:Элементная база автоматизированных технологических машин и оборудо
 вания
LOCATION:1 к. кафедра Автоматы
END:VEVENT
BEGIN:VEVENT
UID:07yr@192.168.245.71:3006
SEQUENCE:0
DTSTAMP:20260424T063843Z
DTSTART:20251106T110000Z
DTEND:20251106T124000Z
SUMMARY:Элементная база автоматизированных технологических машин и оборудо
 вания
LOCATION:1 к. 425
END:VEVENT
BEGIN:VEVENT
UID:60hp@192.168.245.71:3006
SEQUENCE:0
DTSTAMP:20260424T063843Z
DTSTART:20251106T130000Z
DTEND:20251106T144000Z
SUMMARY:Вычислительная механика
LOCATION:ГЗ 346-5
END:VEVENT
BEGIN:VEVENT
UID:ab7g@192.168.245.71:3006
SEQUENCE:0
DTSTAMP:20260424T063843Z
DTSTART:20251106T130000Z
DTEND:20251106T144000Z
SUMMARY:Вычислительная механика
LOCATION:ГЗ 346-5
END:VEVENT
END:VCALENDAR