BEGIN:VCALENDAR
VERSION:2.0
PRODID:-//spbstu.ru//ical//RU
NAME:Расписание группы 3331504/30301
X-WR-CALNAME:Расписание группы 3331504/30301
TIMEZONE-ID:Europe/Moscow
X-WR-TIMEZONE:Europe/Moscow
BEGIN:VEVENT
UID:zo8q@192.168.245.71:3006
SEQUENCE:0
DTSTAMP:20260421T135045Z
DTSTART:20260224T070000Z
DTEND:20260224T084000Z
SUMMARY:Технология изготовления мехатронных модулей
LOCATION:Мех. к. каф.Т М
END:VEVENT
BEGIN:VEVENT
UID:64sj@192.168.245.71:3006
SEQUENCE:0
DTSTAMP:20260421T135045Z
DTSTART:20260224T090000Z
DTEND:20260224T104000Z
SUMMARY:Электроника
LOCATION:ГЗ 271
END:VEVENT
BEGIN:VEVENT
UID:cem3@192.168.245.71:3006
SEQUENCE:0
DTSTAMP:20260421T135045Z
DTSTART:20260224T090000Z
DTEND:20260224T104000Z
SUMMARY:Электроника
LOCATION:ГЗ 271
END:VEVENT
BEGIN:VEVENT
UID:06zu@192.168.245.71:3006
SEQUENCE:0
DTSTAMP:20260421T135045Z
DTSTART:20260224T110000Z
DTEND:20260224T124000Z
SUMMARY:Алгоритмы и методы машинного обучения
LOCATION:1 к. кафедра Автоматы
END:VEVENT
BEGIN:VEVENT
UID:ir3g@192.168.245.71:3006
SEQUENCE:0
DTSTAMP:20260421T135045Z
DTSTART:20260224T130000Z
DTEND:20260224T150000Z
SUMMARY:Основы автоматизации технологического оборудования и производств
LOCATION:1 к. кафедра Автоматы
END:VEVENT
BEGIN:VEVENT
UID:hna6@192.168.245.71:3006
SEQUENCE:0
DTSTAMP:20260421T135045Z
DTSTART:20260225T070000Z
DTEND:20260225T084000Z
SUMMARY:Алгоритмы и методы машинного обучения
LOCATION:1 к. кафедра Автоматы
END:VEVENT
BEGIN:VEVENT
UID:2z5d@192.168.245.71:3006
SEQUENCE:0
DTSTAMP:20260421T135045Z
DTSTART:20260225T090000Z
DTEND:20260225T104000Z
SUMMARY:Теория автоматического управления
LOCATION:1 к. 41
END:VEVENT
BEGIN:VEVENT
UID:sye2@192.168.245.71:3006
SEQUENCE:0
DTSTAMP:20260421T135045Z
DTSTART:20260225T110000Z
DTEND:20260225T114500Z
SUMMARY:Теория автоматического управления
LOCATION:1 к. кафедра Автоматы
END:VEVENT
BEGIN:VEVENT
UID:3uuo@192.168.245.71:3006
SEQUENCE:0
DTSTAMP:20260421T135045Z
DTSTART:20260225T113000Z
DTEND:20260225T143000Z
SUMMARY:Электротехника
LOCATION:ГЗ 176
END:VEVENT
BEGIN:VEVENT
UID:uh47@192.168.245.71:3006
SEQUENCE:0
DTSTAMP:20260421T135045Z
DTSTART:20260226T090000Z
DTEND:20260226T104000Z
SUMMARY:Теория автоматического управления
LOCATION:1 к. кафедра Автоматы
END:VEVENT
BEGIN:VEVENT
UID:may4@192.168.245.71:3006
SEQUENCE:0
DTSTAMP:20260421T135045Z
DTSTART:20260226T110000Z
DTEND:20260226T124000Z
SUMMARY:Электроника
LOCATION:ГЗ 215
END:VEVENT
BEGIN:VEVENT
UID:bjwj@192.168.245.71:3006
SEQUENCE:0
DTSTAMP:20260421T135045Z
DTSTART:20260226T150000Z
DTEND:20260226T154500Z
SUMMARY:САПР в машиностроении
LOCATION:1 к. кафедра Автоматы
END:VEVENT
BEGIN:VEVENT
UID:47w6@192.168.245.71:3006
SEQUENCE:0
DTSTAMP:20260421T135045Z
DTSTART:20260227T110000Z
DTEND:20260227T114500Z
SUMMARY:Элементная база автоматизированных технологических машин и оборудо
 вания
LOCATION:1 к. кафедра Автоматы
END:VEVENT
END:VCALENDAR