BEGIN:VCALENDAR
VERSION:2.0
PRODID:-//spbstu.ru//ical//RU
NAME:Расписание группы 3331504/30301
X-WR-CALNAME:Расписание группы 3331504/30301
TIMEZONE-ID:Europe/Moscow
X-WR-TIMEZONE:Europe/Moscow
BEGIN:VEVENT
UID:bth3@192.168.245.71:3006
SEQUENCE:0
DTSTAMP:20260421T070808Z
DTSTART:20260316T090000Z
DTEND:20260316T104000Z
SUMMARY:Технология изготовления мехатронных модулей
LOCATION:1 к. 41
END:VEVENT
BEGIN:VEVENT
UID:zi2y@192.168.245.71:3006
SEQUENCE:0
DTSTAMP:20260421T070808Z
DTSTART:20260316T110000Z
DTEND:20260316T124000Z
SUMMARY:Детали мехатронных модулей автоматизированных технологических маши
 н и оборудования
LOCATION:1 к. кафедра Автоматы
END:VEVENT
BEGIN:VEVENT
UID:74zp@192.168.245.71:3006
SEQUENCE:0
DTSTAMP:20260421T070808Z
DTSTART:20260317T070000Z
DTEND:20260317T084000Z
SUMMARY:Технология изготовления мехатронных модулей
LOCATION:Мех. к. каф.Т М
END:VEVENT
BEGIN:VEVENT
UID:l9ul@192.168.245.71:3006
SEQUENCE:0
DTSTAMP:20260421T070808Z
DTSTART:20260317T090000Z
DTEND:20260317T104000Z
SUMMARY:Электроника
LOCATION:ГЗ 271
END:VEVENT
BEGIN:VEVENT
UID:2ecm@192.168.245.71:3006
SEQUENCE:0
DTSTAMP:20260421T070808Z
DTSTART:20260317T090000Z
DTEND:20260317T104000Z
SUMMARY:Электроника
LOCATION:ГЗ 271
END:VEVENT
BEGIN:VEVENT
UID:icl1@192.168.245.71:3006
SEQUENCE:0
DTSTAMP:20260421T070808Z
DTSTART:20260317T110000Z
DTEND:20260317T124000Z
SUMMARY:Алгоритмы и методы машинного обучения
LOCATION:1 к. кафедра Автоматы
END:VEVENT
BEGIN:VEVENT
UID:umbh@192.168.245.71:3006
SEQUENCE:0
DTSTAMP:20260421T070808Z
DTSTART:20260318T090000Z
DTEND:20260318T104000Z
SUMMARY:Алгоритмы и методы машинного обучения
LOCATION:1 к. 41
END:VEVENT
BEGIN:VEVENT
UID:28z4@192.168.245.71:3006
SEQUENCE:0
DTSTAMP:20260421T070808Z
DTSTART:20260318T110000Z
DTEND:20260318T124000Z
SUMMARY:Детали мехатронных модулей автоматизированных технологических маши
 н и оборудования
LOCATION:1 к. 425
END:VEVENT
BEGIN:VEVENT
UID:qpnc@192.168.245.71:3006
SEQUENCE:0
DTSTAMP:20260421T070808Z
DTSTART:20260319T090000Z
DTEND:20260319T104000Z
SUMMARY:Теория автоматического управления
LOCATION:1 к. кафедра Автоматы
END:VEVENT
BEGIN:VEVENT
UID:nw68@192.168.245.71:3006
SEQUENCE:0
DTSTAMP:20260421T070808Z
DTSTART:20260319T110000Z
DTEND:20260319T124000Z
SUMMARY:Электроника
LOCATION:ГЗ 215
END:VEVENT
END:VCALENDAR