BEGIN:VCALENDAR
VERSION:2.0
PRODID:-//spbstu.ru//ical//RU
NAME:Расписание группы 3331504/30301
X-WR-CALNAME:Расписание группы 3331504/30301
TIMEZONE-ID:Europe/Moscow
X-WR-TIMEZONE:Europe/Moscow
BEGIN:VEVENT
UID:n0ot@192.168.245.71:3006
SEQUENCE:0
DTSTAMP:20260421T033517Z
DTSTART:20260511T090000Z
DTEND:20260511T104000Z
SUMMARY:Технология изготовления мехатронных модулей
LOCATION:1 к. 41
END:VEVENT
BEGIN:VEVENT
UID:94fk@192.168.245.71:3006
SEQUENCE:0
DTSTAMP:20260421T033517Z
DTSTART:20260511T110000Z
DTEND:20260511T124000Z
SUMMARY:Детали мехатронных модулей автоматизированных технологических маши
 н и оборудования
LOCATION:1 к. кафедра Автоматы
END:VEVENT
BEGIN:VEVENT
UID:vuqz@192.168.245.71:3006
SEQUENCE:0
DTSTAMP:20260421T033517Z
DTSTART:20260512T070000Z
DTEND:20260512T084000Z
SUMMARY:Технология изготовления мехатронных модулей
LOCATION:Мех. к. каф.Т М
END:VEVENT
BEGIN:VEVENT
UID:iane@192.168.245.71:3006
SEQUENCE:0
DTSTAMP:20260421T033517Z
DTSTART:20260512T090000Z
DTEND:20260512T104000Z
SUMMARY:Электроника
LOCATION:ГЗ 271
END:VEVENT
BEGIN:VEVENT
UID:r53p@192.168.245.71:3006
SEQUENCE:0
DTSTAMP:20260421T033517Z
DTSTART:20260512T090000Z
DTEND:20260512T104000Z
SUMMARY:Электроника
LOCATION:ГЗ 271
END:VEVENT
BEGIN:VEVENT
UID:ttep@192.168.245.71:3006
SEQUENCE:0
DTSTAMP:20260421T033517Z
DTSTART:20260512T110000Z
DTEND:20260512T124000Z
SUMMARY:Алгоритмы и методы машинного обучения
LOCATION:1 к. кафедра Автоматы
END:VEVENT
BEGIN:VEVENT
UID:roj9@192.168.245.71:3006
SEQUENCE:0
DTSTAMP:20260421T033517Z
DTSTART:20260513T070000Z
DTEND:20260513T084000Z
SUMMARY:Алгоритмы и методы машинного обучения
LOCATION:1 к. кафедра Автоматы
END:VEVENT
BEGIN:VEVENT
UID:q0dm@192.168.245.71:3006
SEQUENCE:0
DTSTAMP:20260421T033517Z
DTSTART:20260513T090000Z
DTEND:20260513T104000Z
SUMMARY:Алгоритмы и методы машинного обучения
LOCATION:1 к. 41
END:VEVENT
BEGIN:VEVENT
UID:iuv7@192.168.245.71:3006
SEQUENCE:0
DTSTAMP:20260421T033517Z
DTSTART:20260514T110000Z
DTEND:20260514T124000Z
SUMMARY:Электроника
LOCATION:ГЗ 215
END:VEVENT
END:VCALENDAR