BEGIN:VCALENDAR
VERSION:2.0
PRODID:-//spbstu.ru//ical//RU
NAME:Расписание группы 3331504/30302
X-WR-CALNAME:Расписание группы 3331504/30302
TIMEZONE-ID:Europe/Moscow
X-WR-TIMEZONE:Europe/Moscow
BEGIN:VEVENT
UID:b7gb@192.168.245.71:3006
SEQUENCE:0
DTSTAMP:20260424T061509Z
DTSTART:20250915T070000Z
DTEND:20250915T084000Z
SUMMARY:Вычислительная механика
LOCATION:ГЗ 346-5
END:VEVENT
BEGIN:VEVENT
UID:its0@192.168.245.71:3006
SEQUENCE:0
DTSTAMP:20260424T061509Z
DTSTART:20250915T070000Z
DTEND:20250915T084000Z
SUMMARY:Вычислительная механика
LOCATION:ГЗ 346-5
END:VEVENT
BEGIN:VEVENT
UID:7sui@192.168.245.71:3006
SEQUENCE:0
DTSTAMP:20260424T061509Z
DTSTART:20250915T090000Z
DTEND:20250915T104000Z
SUMMARY:Теория автоматического управления
LOCATION:ГЗ 153
END:VEVENT
BEGIN:VEVENT
UID:q1gp@192.168.245.71:3006
SEQUENCE:0
DTSTAMP:20260424T061509Z
DTSTART:20250915T110000Z
DTEND:20250915T124000Z
SUMMARY:Теория автоматического управления
LOCATION:1 к. 425
END:VEVENT
BEGIN:VEVENT
UID:pdvj@192.168.245.71:3006
SEQUENCE:0
DTSTAMP:20260424T061509Z
DTSTART:20250916T070000Z
DTEND:20250916T084000Z
SUMMARY:Алгоритмы и методы машинного обучения
LOCATION:НИК В2.02
END:VEVENT
BEGIN:VEVENT
UID:7jkq@192.168.245.71:3006
SEQUENCE:0
DTSTAMP:20260424T061509Z
DTSTART:20250916T090000Z
DTEND:20250916T104000Z
SUMMARY:Алгоритмы и методы машинного обучения
LOCATION:1 к. кафедра Автоматы
END:VEVENT
BEGIN:VEVENT
UID:a8tf@192.168.245.71:3006
SEQUENCE:0
DTSTAMP:20260424T061509Z
DTSTART:20250916T110000Z
DTEND:20250916T124000Z
SUMMARY:Детали машин и основы конструирования
LOCATION:ГЗ 327
END:VEVENT
BEGIN:VEVENT
UID:4frn@192.168.245.71:3006
SEQUENCE:0
DTSTAMP:20260424T061509Z
DTSTART:20250916T130000Z
DTEND:20250916T144000Z
SUMMARY:САПР в машиностроении
LOCATION:1 к. кафедра Автоматы
END:VEVENT
BEGIN:VEVENT
UID:p3nd@192.168.245.71:3006
SEQUENCE:0
DTSTAMP:20260424T061509Z
DTSTART:20250917T070000Z
DTEND:20250917T084000Z
SUMMARY:Основы автоматизации технологического оборудования и производств
LOCATION:1 к. 425
END:VEVENT
BEGIN:VEVENT
UID:w1ub@192.168.245.71:3006
SEQUENCE:0
DTSTAMP:20260424T061509Z
DTSTART:20250917T090000Z
DTEND:20250917T104000Z
SUMMARY:Электротехника
LOCATION:1 к. 41
END:VEVENT
BEGIN:VEVENT
UID:q9qi@192.168.245.71:3006
SEQUENCE:0
DTSTAMP:20260424T061509Z
DTSTART:20250917T110000Z
DTEND:20250917T124000Z
SUMMARY:Метрология\, стандартизация и сертификация
LOCATION:Мех. к. каф.Т М
END:VEVENT
BEGIN:VEVENT
UID:fvzd@192.168.245.71:3006
SEQUENCE:0
DTSTAMP:20260424T061509Z
DTSTART:20250917T110000Z
DTEND:20250917T124000Z
SUMMARY:Метрология\, стандартизация и сертификация
LOCATION:Мех. к. каф.Т М
END:VEVENT
BEGIN:VEVENT
UID:mizi@192.168.245.71:3006
SEQUENCE:0
DTSTAMP:20260424T061509Z
DTSTART:20250917T130000Z
DTEND:20250917T135000Z
SUMMARY:Метрология\, стандартизация и сертификация
LOCATION:Мех. к. каф.Т М
END:VEVENT
BEGIN:VEVENT
UID:erwp@192.168.245.71:3006
SEQUENCE:0
DTSTAMP:20260424T061509Z
DTSTART:20250918T070000Z
DTEND:20250918T084000Z
SUMMARY:Метрология\, стандартизация и сертификация
LOCATION:1 к. 41
END:VEVENT
BEGIN:VEVENT
UID:p6qm@192.168.245.71:3006
SEQUENCE:0
DTSTAMP:20260424T061509Z
DTSTART:20250918T090000Z
DTEND:20250918T104000Z
SUMMARY:Электротехника
LOCATION:1 к. 439
END:VEVENT
BEGIN:VEVENT
UID:gt3p@192.168.245.71:3006
SEQUENCE:0
DTSTAMP:20260424T061509Z
DTSTART:20250918T110000Z
DTEND:20250918T124000Z
SUMMARY:Элементная база автоматизированных технологических машин и оборудо
 вания
LOCATION:1 к. 425
END:VEVENT
BEGIN:VEVENT
UID:naxa@192.168.245.71:3006
SEQUENCE:0
DTSTAMP:20260424T061509Z
DTSTART:20250918T130000Z
DTEND:20250918T144000Z
SUMMARY:Элементная база автоматизированных технологических машин и оборудо
 вания
LOCATION:1 к. кафедра Автоматы
END:VEVENT
END:VCALENDAR