BEGIN:VCALENDAR
VERSION:2.0
PRODID:-//spbstu.ru//ical//RU
NAME:Расписание группы 3331506/30101
X-WR-CALNAME:Расписание группы 3331506/30101
TIMEZONE-ID:Europe/Moscow
X-WR-TIMEZONE:Europe/Moscow
BEGIN:VEVENT
UID:j6n3@192.168.245.71:3006
SEQUENCE:0
DTSTAMP:20260423T074239Z
DTSTART:20251124T070000Z
DTEND:20251124T084000Z
SUMMARY:Программирование на языках высокого уровня
LOCATION:ГЗ 101
END:VEVENT
BEGIN:VEVENT
UID:p9c0@192.168.245.71:3006
SEQUENCE:0
DTSTAMP:20260423T074239Z
DTSTART:20251124T090000Z
DTEND:20251124T104000Z
SUMMARY:Вычислительная механика
LOCATION:ГЗ 346-5
END:VEVENT
BEGIN:VEVENT
UID:b0ar@192.168.245.71:3006
SEQUENCE:0
DTSTAMP:20260423T074239Z
DTSTART:20251124T090000Z
DTEND:20251124T104000Z
SUMMARY:Вычислительная механика
LOCATION:ГЗ 346-5
END:VEVENT
BEGIN:VEVENT
UID:tq1d@192.168.245.71:3006
SEQUENCE:0
DTSTAMP:20260423T074239Z
DTSTART:20251124T110000Z
DTEND:20251124T124000Z
SUMMARY:Электротехника
LOCATION:1 к. 439
END:VEVENT
BEGIN:VEVENT
UID:yqrl@192.168.245.71:3006
SEQUENCE:0
DTSTAMP:20260423T074239Z
DTSTART:20251125T060000Z
DTEND:20251125T065000Z
SUMMARY:Метрология\, стандартизация и сертификация
LOCATION:Мех. к. каф.Т М
END:VEVENT
BEGIN:VEVENT
UID:a4gr@192.168.245.71:3006
SEQUENCE:0
DTSTAMP:20260423T074239Z
DTSTART:20251125T070000Z
DTEND:20251125T084000Z
SUMMARY:Метрология\, стандартизация и сертификация
LOCATION:Мех. к. каф.Т М
END:VEVENT
BEGIN:VEVENT
UID:zqjd@192.168.245.71:3006
SEQUENCE:0
DTSTAMP:20260423T074239Z
DTSTART:20251125T070000Z
DTEND:20251125T084000Z
SUMMARY:Метрология\, стандартизация и сертификация
LOCATION:Мех. к. каф.Т М
END:VEVENT
BEGIN:VEVENT
UID:is8h@192.168.245.71:3006
SEQUENCE:0
DTSTAMP:20260423T074239Z
DTSTART:20251125T090000Z
DTEND:20251125T104000Z
SUMMARY:Теория автоматического управления
LOCATION:ГЗ 224
END:VEVENT
BEGIN:VEVENT
UID:npbh@192.168.245.71:3006
SEQUENCE:0
DTSTAMP:20260423T074239Z
DTSTART:20251125T110000Z
DTEND:20251125T124000Z
SUMMARY:Элементная база мехатроники и робототехники
LOCATION:1 к. 425
END:VEVENT
BEGIN:VEVENT
UID:e7k2@192.168.245.71:3006
SEQUENCE:0
DTSTAMP:20260423T074239Z
DTSTART:20251125T130000Z
DTEND:20251125T144000Z
SUMMARY:Теория автоматического управления
LOCATION:ГЗ 265
END:VEVENT
BEGIN:VEVENT
UID:sril@192.168.245.71:3006
SEQUENCE:0
DTSTAMP:20260423T074239Z
DTSTART:20251126T070000Z
DTEND:20251126T084000Z
SUMMARY:Детали машин и основы конструирования
LOCATION:ГЗ 327
END:VEVENT
BEGIN:VEVENT
UID:5vtj@192.168.245.71:3006
SEQUENCE:0
DTSTAMP:20260423T074239Z
DTSTART:20251126T090000Z
DTEND:20251126T104000Z
SUMMARY:Электротехника
LOCATION:1 к. 41
END:VEVENT
BEGIN:VEVENT
UID:pdrk@192.168.245.71:3006
SEQUENCE:0
DTSTAMP:20260423T074239Z
DTSTART:20251126T110000Z
DTEND:20251126T124000Z
SUMMARY:Программирование на языках высокого уровня
LOCATION:DL Дистанционно
END:VEVENT
BEGIN:VEVENT
UID:nqhc@192.168.245.71:3006
SEQUENCE:0
DTSTAMP:20260423T074239Z
DTSTART:20251127T070000Z
DTEND:20251127T084000Z
SUMMARY:Метрология\, стандартизация и сертификация
LOCATION:1 к. 41
END:VEVENT
BEGIN:VEVENT
UID:w9rs@192.168.245.71:3006
SEQUENCE:0
DTSTAMP:20260423T074239Z
DTSTART:20251127T090000Z
DTEND:20251127T104000Z
SUMMARY:Основы мехатроники и робототехники
LOCATION:1 к. 425
END:VEVENT
BEGIN:VEVENT
UID:izo4@192.168.245.71:3006
SEQUENCE:0
DTSTAMP:20260423T074239Z
DTSTART:20251127T110000Z
DTEND:20251127T124000Z
SUMMARY:Элементная база мехатроники и робототехники
LOCATION:ЦНИИ РТК каф. МиР
END:VEVENT
BEGIN:VEVENT
UID:gw9z@192.168.245.71:3006
SEQUENCE:0
DTSTAMP:20260423T074239Z
DTSTART:20251127T130000Z
DTEND:20251127T144000Z
SUMMARY:Практикум по САПР
LOCATION:1 к. кафедра Автоматы
END:VEVENT
END:VCALENDAR