BEGIN:VCALENDAR
VERSION:2.0
PRODID:-//spbstu.ru//ical//RU
NAME:Расписание группы 3331506/30101
X-WR-CALNAME:Расписание группы 3331506/30101
TIMEZONE-ID:Europe/Moscow
X-WR-TIMEZONE:Europe/Moscow
BEGIN:VEVENT
UID:4bgt@192.168.245.71:3006
SEQUENCE:0
DTSTAMP:20260422T204226Z
DTSTART:20251229T090000Z
DTEND:20251229T110000Z
SUMMARY:Образовательный форсайт
LOCATION:1 к. кафедра Автоматы
END:VEVENT
END:VCALENDAR