BEGIN:VCALENDAR
VERSION:2.0
PRODID:-//spbstu.ru//ical//RU
NAME:Расписание группы 3331506/30101
X-WR-CALNAME:Расписание группы 3331506/30101
TIMEZONE-ID:Europe/Moscow
X-WR-TIMEZONE:Europe/Moscow
BEGIN:VEVENT
UID:jqd0@192.168.245.71:3006
SEQUENCE:0
DTSTAMP:20260424T202516Z
DTSTART:20250922T070000Z
DTEND:20250922T084000Z
SUMMARY:Программирование на языках высокого уровня
LOCATION:ГЗ 283
END:VEVENT
BEGIN:VEVENT
UID:nvju@192.168.245.71:3006
SEQUENCE:0
DTSTAMP:20260424T202516Z
DTSTART:20250922T090000Z
DTEND:20250922T104000Z
SUMMARY:Вычислительная механика
LOCATION:ГЗ 346-5
END:VEVENT
BEGIN:VEVENT
UID:8c4c@192.168.245.71:3006
SEQUENCE:0
DTSTAMP:20260424T202516Z
DTSTART:20250922T090000Z
DTEND:20250922T104000Z
SUMMARY:Вычислительная механика
LOCATION:ГЗ 346-5
END:VEVENT
BEGIN:VEVENT
UID:m5yx@192.168.245.71:3006
SEQUENCE:0
DTSTAMP:20260424T202516Z
DTSTART:20250922T110000Z
DTEND:20250922T124000Z
SUMMARY:Электротехника
LOCATION:1 к. 439
END:VEVENT
BEGIN:VEVENT
UID:vw1i@192.168.245.71:3006
SEQUENCE:0
DTSTAMP:20260424T202516Z
DTSTART:20250922T130000Z
DTEND:20250922T144000Z
SUMMARY:Вычислительная механика
LOCATION:ГЗ 232
END:VEVENT
BEGIN:VEVENT
UID:0f15@192.168.245.71:3006
SEQUENCE:0
DTSTAMP:20260424T202516Z
DTSTART:20250923T060000Z
DTEND:20250923T065000Z
SUMMARY:Метрология\, стандартизация и сертификация
LOCATION:Мех. к. каф.Т М
END:VEVENT
BEGIN:VEVENT
UID:5igr@192.168.245.71:3006
SEQUENCE:0
DTSTAMP:20260424T202516Z
DTSTART:20250923T070000Z
DTEND:20250923T084000Z
SUMMARY:Метрология\, стандартизация и сертификация
LOCATION:Мех. к. каф.Т М
END:VEVENT
BEGIN:VEVENT
UID:00rr@192.168.245.71:3006
SEQUENCE:0
DTSTAMP:20260424T202516Z
DTSTART:20250923T070000Z
DTEND:20250923T084000Z
SUMMARY:Метрология\, стандартизация и сертификация
LOCATION:Мех. к. каф.Т М
END:VEVENT
BEGIN:VEVENT
UID:x07r@192.168.245.71:3006
SEQUENCE:0
DTSTAMP:20260424T202516Z
DTSTART:20250923T090000Z
DTEND:20250923T104000Z
SUMMARY:Теория автоматического управления
LOCATION:Хим. к. 52
END:VEVENT
BEGIN:VEVENT
UID:4q80@192.168.245.71:3006
SEQUENCE:0
DTSTAMP:20260424T202516Z
DTSTART:20250923T110000Z
DTEND:20250923T124000Z
SUMMARY:Элементная база мехатроники и робототехники
LOCATION:1 к. 425
END:VEVENT
BEGIN:VEVENT
UID:3bx2@192.168.245.71:3006
SEQUENCE:0
DTSTAMP:20260424T202516Z
DTSTART:20250923T130000Z
DTEND:20250923T144000Z
SUMMARY:Теория автоматического управления
LOCATION:ГЗ 265
END:VEVENT
BEGIN:VEVENT
UID:toid@192.168.245.71:3006
SEQUENCE:0
DTSTAMP:20260424T202516Z
DTSTART:20250924T070000Z
DTEND:20250924T084000Z
SUMMARY:Детали машин и основы конструирования
LOCATION:ГЗ 327
END:VEVENT
BEGIN:VEVENT
UID:fpb6@192.168.245.71:3006
SEQUENCE:0
DTSTAMP:20260424T202516Z
DTSTART:20250924T090000Z
DTEND:20250924T104000Z
SUMMARY:Электротехника
LOCATION:1 к. 41
END:VEVENT
BEGIN:VEVENT
UID:osbt@192.168.245.71:3006
SEQUENCE:0
DTSTAMP:20260424T202516Z
DTSTART:20250924T110000Z
DTEND:20250924T124000Z
SUMMARY:Программирование на языках высокого уровня
LOCATION:НИК В2.15
END:VEVENT
BEGIN:VEVENT
UID:hnge@192.168.245.71:3006
SEQUENCE:0
DTSTAMP:20260424T202516Z
DTSTART:20250924T130000Z
DTEND:20250924T144000Z
SUMMARY:Основы мехатроники и робототехники
LOCATION:1 к. кафедра Автоматы
END:VEVENT
BEGIN:VEVENT
UID:mzxg@192.168.245.71:3006
SEQUENCE:0
DTSTAMP:20260424T202516Z
DTSTART:20250925T070000Z
DTEND:20250925T084000Z
SUMMARY:Метрология\, стандартизация и сертификация
LOCATION:1 к. 41
END:VEVENT
BEGIN:VEVENT
UID:djg1@192.168.245.71:3006
SEQUENCE:0
DTSTAMP:20260424T202516Z
DTSTART:20250925T090000Z
DTEND:20250925T104000Z
SUMMARY:Основы мехатроники и робототехники
LOCATION:1 к. 425
END:VEVENT
BEGIN:VEVENT
UID:wnta@192.168.245.71:3006
SEQUENCE:0
DTSTAMP:20260424T202516Z
DTSTART:20250925T110000Z
DTEND:20250925T124000Z
SUMMARY:Элементная база мехатроники и робототехники
LOCATION:ЦНИИ РТК каф. МиР
END:VEVENT
BEGIN:VEVENT
UID:evvt@192.168.245.71:3006
SEQUENCE:0
DTSTAMP:20260424T202516Z
DTSTART:20250925T130000Z
DTEND:20250925T144000Z
SUMMARY:Практикум по САПР
LOCATION:1 к. кафедра Автоматы
END:VEVENT
END:VCALENDAR