BEGIN:VCALENDAR
VERSION:2.0
PRODID:-//spbstu.ru//ical//RU
NAME:Расписание группы 3331506/30101
X-WR-CALNAME:Расписание группы 3331506/30101
TIMEZONE-ID:Europe/Moscow
X-WR-TIMEZONE:Europe/Moscow
BEGIN:VEVENT
UID:vaba@192.168.245.71:3006
SEQUENCE:0
DTSTAMP:20260421T064536Z
DTSTART:20260413T090000Z
DTEND:20260413T104000Z
SUMMARY:Технология изготовления мехатронных модулей
LOCATION:1 к. 41
END:VEVENT
BEGIN:VEVENT
UID:h8bn@192.168.245.71:3006
SEQUENCE:0
DTSTAMP:20260421T064536Z
DTSTART:20260413T110000Z
DTEND:20260413T124000Z
SUMMARY:Теория автоматического управления
LOCATION:ГЗ 265
END:VEVENT
BEGIN:VEVENT
UID:e01j@192.168.245.71:3006
SEQUENCE:0
DTSTAMP:20260421T064536Z
DTSTART:20260413T130000Z
DTEND:20260413T144000Z
SUMMARY:Технология изготовления мехатронных модулей
LOCATION:Мех. к. каф.Т М
END:VEVENT
BEGIN:VEVENT
UID:snd8@192.168.245.71:3006
SEQUENCE:0
DTSTAMP:20260421T064536Z
DTSTART:20260414T090000Z
DTEND:20260414T104000Z
SUMMARY:Объектно-ориентированное программирование
LOCATION:DL Дистанционно
END:VEVENT
BEGIN:VEVENT
UID:vydu@192.168.245.71:3006
SEQUENCE:0
DTSTAMP:20260421T064536Z
DTSTART:20260414T110000Z
DTEND:20260414T124000Z
SUMMARY:Теория автоматического управления
LOCATION:1 к. 41
END:VEVENT
BEGIN:VEVENT
UID:yo3j@192.168.245.71:3006
SEQUENCE:0
DTSTAMP:20260421T064536Z
DTSTART:20260414T130000Z
DTEND:20260414T150000Z
SUMMARY:Метрология\, стандартизация и сертификация
LOCATION:Мех. к. каф.Т М
END:VEVENT
BEGIN:VEVENT
UID:nnux@192.168.245.71:3006
SEQUENCE:0
DTSTAMP:20260421T064536Z
DTSTART:20260415T090000Z
DTEND:20260415T104000Z
SUMMARY:Детали мехатронных модулей роботов
LOCATION:1 к. кафедра Автоматы
END:VEVENT
BEGIN:VEVENT
UID:vuoy@192.168.245.71:3006
SEQUENCE:0
DTSTAMP:20260421T064536Z
DTSTART:20260415T110000Z
DTEND:20260415T124000Z
SUMMARY:Объектно-ориентированное программирование
LOCATION:DL Дистанционно
END:VEVENT
BEGIN:VEVENT
UID:s8ip@192.168.245.71:3006
SEQUENCE:0
DTSTAMP:20260421T064536Z
DTSTART:20260415T130000Z
DTEND:20260415T144000Z
SUMMARY:Объектно-ориентированное программирование
LOCATION:DL Дистанционно
END:VEVENT
BEGIN:VEVENT
UID:mnf2@192.168.245.71:3006
SEQUENCE:0
DTSTAMP:20260421T064536Z
DTSTART:20260415T130000Z
DTEND:20260415T144000Z
SUMMARY:Объектно-ориентированное программирование
LOCATION:НИК В2.16
END:VEVENT
BEGIN:VEVENT
UID:8ovx@192.168.245.71:3006
SEQUENCE:0
DTSTAMP:20260421T064536Z
DTSTART:20260416T110000Z
DTEND:20260416T124000Z
SUMMARY:Электроника
LOCATION:ГЗ 215
END:VEVENT
BEGIN:VEVENT
UID:q5gi@192.168.245.71:3006
SEQUENCE:0
DTSTAMP:20260421T064536Z
DTSTART:20260416T130000Z
DTEND:20260416T144000Z
SUMMARY:Электроника
LOCATION:ГЗ 271
END:VEVENT
BEGIN:VEVENT
UID:18no@192.168.245.71:3006
SEQUENCE:0
DTSTAMP:20260421T064536Z
DTSTART:20260416T130000Z
DTEND:20260416T144000Z
SUMMARY:Электроника
LOCATION:ГЗ 271
END:VEVENT
END:VCALENDAR