BEGIN:VCALENDAR
VERSION:2.0
PRODID:-//spbstu.ru//ical//RU
NAME:Расписание группы 3332202/31501
X-WR-CALNAME:Расписание группы 3332202/31501
TIMEZONE-ID:Europe/Moscow
X-WR-TIMEZONE:Europe/Moscow
BEGIN:VEVENT
UID:dyhf@192.168.245.71:3006
SEQUENCE:0
DTSTAMP:20260424T224020Z
DTSTART:20250922T070000Z
DTEND:20250922T084000Z
SUMMARY:Металлургические основы сварки
LOCATION:Хим. к. 15
END:VEVENT
BEGIN:VEVENT
UID:snsv@192.168.245.71:3006
SEQUENCE:0
DTSTAMP:20260424T224020Z
DTSTART:20250922T090000Z
DTEND:20250922T104000Z
SUMMARY:Методы контроля и анализа веществ
LOCATION:Хим. к. 52
END:VEVENT
BEGIN:VEVENT
UID:0rrr@192.168.245.71:3006
SEQUENCE:0
DTSTAMP:20260424T224020Z
DTSTART:20250922T110000Z
DTEND:20250922T124000Z
SUMMARY:Электрометаллургия стали
LOCATION:ЛабК 85а
END:VEVENT
BEGIN:VEVENT
UID:ov4f@192.168.245.71:3006
SEQUENCE:0
DTSTAMP:20260424T224020Z
DTSTART:20250922T130000Z
DTEND:20250922T144000Z
SUMMARY:Электрометаллургия стали
LOCATION:ЛабК 85а
END:VEVENT
BEGIN:VEVENT
UID:osqa@192.168.245.71:3006
SEQUENCE:0
DTSTAMP:20260424T224020Z
DTSTART:20250923T070000Z
DTEND:20250923T084000Z
SUMMARY:Пластическая обработка металлов
LOCATION:Хим. к. Прокатка2
END:VEVENT
BEGIN:VEVENT
UID:4yin@192.168.245.71:3006
SEQUENCE:0
DTSTAMP:20260424T224020Z
DTSTART:20250923T090000Z
DTEND:20250923T104000Z
SUMMARY:Пластическая обработка металлов
LOCATION:Хим. к. Прокатка1
END:VEVENT
BEGIN:VEVENT
UID:4uy1@192.168.245.71:3006
SEQUENCE:0
DTSTAMP:20260424T224020Z
DTSTART:20250923T110000Z
DTEND:20250923T124000Z
SUMMARY:Технология литейных форм
LOCATION:Лит.к. лаб.7
END:VEVENT
BEGIN:VEVENT
UID:iif9@192.168.245.71:3006
SEQUENCE:0
DTSTAMP:20260424T224020Z
DTSTART:20250923T130000Z
DTEND:20250923T144000Z
SUMMARY:Технология литейных форм
LOCATION:Лит.к. лаб.7
END:VEVENT
BEGIN:VEVENT
UID:4exz@192.168.245.71:3006
SEQUENCE:0
DTSTAMP:20260424T224020Z
DTSTART:20250924T110000Z
DTEND:20250924T124000Z
SUMMARY:Методы контроля и анализа веществ
LOCATION:Хим. к. 32
END:VEVENT
BEGIN:VEVENT
UID:1toq@192.168.245.71:3006
SEQUENCE:0
DTSTAMP:20260424T224020Z
DTSTART:20250924T130000Z
DTEND:20250924T144000Z
SUMMARY:Теория пирометаллургических процессов
LOCATION:Хим. к. 15
END:VEVENT
BEGIN:VEVENT
UID:0anj@192.168.245.71:3006
SEQUENCE:0
DTSTAMP:20260424T224020Z
DTSTART:20250924T150000Z
DTEND:20250924T164000Z
SUMMARY:Теория пирометаллургических процессов
LOCATION:Хим. к. 15
END:VEVENT
BEGIN:VEVENT
UID:0rpa@192.168.245.71:3006
SEQUENCE:0
DTSTAMP:20260424T224020Z
DTSTART:20250925T070000Z
DTEND:20250925T084000Z
SUMMARY:Металлургические основы сварки
LOCATION:Хим. к. 44
END:VEVENT
BEGIN:VEVENT
UID:csz3@192.168.245.71:3006
SEQUENCE:0
DTSTAMP:20260424T224020Z
DTSTART:20250925T090000Z
DTEND:20250925T104000Z
SUMMARY:Основы металлургической экспертизы
LOCATION:ЛабК 85б
END:VEVENT
BEGIN:VEVENT
UID:e1du@192.168.245.71:3006
SEQUENCE:0
DTSTAMP:20260424T224020Z
DTSTART:20250925T090000Z
DTEND:20250925T104000Z
SUMMARY:Инновационные технологии в литейном производстве
LOCATION:Лит.к. лаб.1
END:VEVENT
BEGIN:VEVENT
UID:pz4d@192.168.245.71:3006
SEQUENCE:0
DTSTAMP:20260424T224020Z
DTSTART:20250925T110000Z
DTEND:20250925T124000Z
SUMMARY:Термическая обработка металлов и сплавов
LOCATION:Хим. к. 51
END:VEVENT
BEGIN:VEVENT
UID:uohz@192.168.245.71:3006
SEQUENCE:0
DTSTAMP:20260424T224020Z
DTSTART:20250927T110000Z
DTEND:20250927T124000Z
SUMMARY:Обогащение руд цветных металлов
LOCATION:Хим. к. 15
END:VEVENT
END:VCALENDAR