BEGIN:VCALENDAR
VERSION:2.0
PRODID:-//spbstu.ru//ical//RU
NAME:Расписание группы 3332202/31501
X-WR-CALNAME:Расписание группы 3332202/31501
TIMEZONE-ID:Europe/Moscow
X-WR-TIMEZONE:Europe/Moscow
BEGIN:VEVENT
UID:tc4x@192.168.245.71:3006
SEQUENCE:0
DTSTAMP:20260422T123912Z
DTSTART:20260209T070000Z
DTEND:20260209T084000Z
SUMMARY:Образовательный форсайт
LOCATION:Лит.к. лаб.7
END:VEVENT
BEGIN:VEVENT
UID:wurl@192.168.245.71:3006
SEQUENCE:0
DTSTAMP:20260422T123912Z
DTSTART:20260209T090000Z
DTEND:20260209T104000Z
SUMMARY:Конвертерное производство стали
LOCATION:Лит.к. лаб.1
END:VEVENT
BEGIN:VEVENT
UID:ojnb@192.168.245.71:3006
SEQUENCE:0
DTSTAMP:20260422T123912Z
DTSTART:20260209T110000Z
DTEND:20260209T124000Z
SUMMARY:Конвертерное производство стали
LOCATION:Лит.к. лаб.1
END:VEVENT
BEGIN:VEVENT
UID:7wgn@192.168.245.71:3006
SEQUENCE:0
DTSTAMP:20260422T123912Z
DTSTART:20260209T130000Z
DTEND:20260209T144000Z
SUMMARY:Моделирование металлургических процессов
LOCATION:Хим. к. 56
END:VEVENT
BEGIN:VEVENT
UID:siyz@192.168.245.71:3006
SEQUENCE:0
DTSTAMP:20260422T123912Z
DTSTART:20260211T070000Z
DTEND:20260211T084000Z
SUMMARY:Производство отливок из черных металлов
LOCATION:Лит.к. лаб.1
END:VEVENT
BEGIN:VEVENT
UID:nuub@192.168.245.71:3006
SEQUENCE:0
DTSTAMP:20260422T123912Z
DTSTART:20260211T090000Z
DTEND:20260211T104000Z
SUMMARY:Производство отливок из черных металлов
LOCATION:Лит.к. лаб.7
END:VEVENT
BEGIN:VEVENT
UID:9fl5@192.168.245.71:3006
SEQUENCE:0
DTSTAMP:20260422T123912Z
DTSTART:20260211T110000Z
DTEND:20260211T124000Z
SUMMARY:Производство отливок из черных металлов
LOCATION:Лит.к. лаб.7
END:VEVENT
BEGIN:VEVENT
UID:5brj@192.168.245.71:3006
SEQUENCE:0
DTSTAMP:20260422T123912Z
DTSTART:20260211T130000Z
DTEND:20260211T144000Z
SUMMARY:Теория гидрометаллургических процессов
LOCATION:Хим. к. 15
END:VEVENT
BEGIN:VEVENT
UID:tt17@192.168.245.71:3006
SEQUENCE:0
DTSTAMP:20260422T123912Z
DTSTART:20260211T150000Z
DTEND:20260211T155000Z
SUMMARY:Теория гидрометаллургических процессов
LOCATION:Хим. к. 15
END:VEVENT
BEGIN:VEVENT
UID:avt2@192.168.245.71:3006
SEQUENCE:0
DTSTAMP:20260422T123912Z
DTSTART:20260212T070000Z
DTEND:20260212T084000Z
SUMMARY:Сварочные материалы
LOCATION:Хим. к. 15
END:VEVENT
BEGIN:VEVENT
UID:aeku@192.168.245.71:3006
SEQUENCE:0
DTSTAMP:20260422T123912Z
DTSTART:20260212T090000Z
DTEND:20260212T104000Z
SUMMARY:Цветные литейные сплавы
LOCATION:Лит.к. лаб.7
END:VEVENT
BEGIN:VEVENT
UID:abt6@192.168.245.71:3006
SEQUENCE:0
DTSTAMP:20260422T123912Z
DTSTART:20260212T110000Z
DTEND:20260212T124000Z
SUMMARY:Цветные литейные сплавы
LOCATION:Лит.к. лаб.7
END:VEVENT
BEGIN:VEVENT
UID:8x7f@192.168.245.71:3006
SEQUENCE:0
DTSTAMP:20260422T123912Z
DTSTART:20260214T110000Z
DTEND:20260214T114500Z
SUMMARY:Теория пирометаллургических процессов
LOCATION:Хим. к. 34
END:VEVENT
END:VCALENDAR