BEGIN:VCALENDAR
VERSION:2.0
PRODID:-//spbstu.ru//ical//RU
NAME:Расписание группы 3332202/31501
X-WR-CALNAME:Расписание группы 3332202/31501
TIMEZONE-ID:Europe/Moscow
X-WR-TIMEZONE:Europe/Moscow
BEGIN:VEVENT
UID:9n8r@192.168.245.71:3006
SEQUENCE:0
DTSTAMP:20260421T052416Z
DTSTART:20260427T090000Z
DTEND:20260427T104000Z
SUMMARY:Моделирование металлургических процессов
LOCATION:Лит.к. лаб.1
END:VEVENT
BEGIN:VEVENT
UID:x78k@192.168.245.71:3006
SEQUENCE:0
DTSTAMP:20260421T052416Z
DTSTART:20260427T110000Z
DTEND:20260427T124000Z
SUMMARY:Конвертерное производство стали
LOCATION:Лит.к. лаб.1
END:VEVENT
BEGIN:VEVENT
UID:6s3i@192.168.245.71:3006
SEQUENCE:0
DTSTAMP:20260421T052416Z
DTSTART:20260427T130000Z
DTEND:20260427T144000Z
SUMMARY:Моделирование металлургических процессов
LOCATION:Хим. к. 56
END:VEVENT
BEGIN:VEVENT
UID:s2u1@192.168.245.71:3006
SEQUENCE:0
DTSTAMP:20260421T052416Z
DTSTART:20260429T070000Z
DTEND:20260429T084000Z
SUMMARY:Производство отливок из черных металлов
LOCATION:Лит.к. лаб.1
END:VEVENT
BEGIN:VEVENT
UID:4tbx@192.168.245.71:3006
SEQUENCE:0
DTSTAMP:20260421T052416Z
DTSTART:20260429T110000Z
DTEND:20260429T124000Z
SUMMARY:Производство отливок из черных металлов
LOCATION:Лит.к. лаб.7
END:VEVENT
BEGIN:VEVENT
UID:tvbc@192.168.245.71:3006
SEQUENCE:0
DTSTAMP:20260421T052416Z
DTSTART:20260429T130000Z
DTEND:20260429T144000Z
SUMMARY:Теория гидрометаллургических процессов
LOCATION:Хим. к. 15
END:VEVENT
BEGIN:VEVENT
UID:d2k8@192.168.245.71:3006
SEQUENCE:0
DTSTAMP:20260421T052416Z
DTSTART:20260429T150000Z
DTEND:20260429T155000Z
SUMMARY:Теория гидрометаллургических процессов
LOCATION:Хим. к. 15
END:VEVENT
BEGIN:VEVENT
UID:uf0e@192.168.245.71:3006
SEQUENCE:0
DTSTAMP:20260421T052416Z
DTSTART:20260430T070000Z
DTEND:20260430T084000Z
SUMMARY:Сварочные материалы
LOCATION:Хим. к. 15
END:VEVENT
BEGIN:VEVENT
UID:4vqr@192.168.245.71:3006
SEQUENCE:0
DTSTAMP:20260421T052416Z
DTSTART:20260430T090000Z
DTEND:20260430T104000Z
SUMMARY:Сварочные материалы
LOCATION:Хим. к. 15
END:VEVENT
BEGIN:VEVENT
UID:v46m@192.168.245.71:3006
SEQUENCE:0
DTSTAMP:20260421T052416Z
DTSTART:20260430T110000Z
DTEND:20260430T124000Z
SUMMARY:Цветные литейные сплавы
LOCATION:Лит.к. лаб.1
END:VEVENT
BEGIN:VEVENT
UID:0jcj@192.168.245.71:3006
SEQUENCE:0
DTSTAMP:20260421T052416Z
DTSTART:20260430T130000Z
DTEND:20260430T144000Z
SUMMARY:Цветные литейные сплавы
LOCATION:Лит.к. лаб.1
END:VEVENT
END:VCALENDAR