BEGIN:VCALENDAR
VERSION:2.0
PRODID:-//spbstu.ru//ical//RU
NAME:Расписание группы 3332202/31501
X-WR-CALNAME:Расписание группы 3332202/31501
TIMEZONE-ID:Europe/Moscow
X-WR-TIMEZONE:Europe/Moscow
BEGIN:VEVENT
UID:ql4k@192.168.245.71:3006
SEQUENCE:0
DTSTAMP:20260421T152454Z
DTSTART:20260601T070000Z
DTEND:20260601T074500Z
SUMMARY:Сварочные материалы
LOCATION:Хим. к. 15
END:VEVENT
BEGIN:VEVENT
UID:xj05@192.168.245.71:3006
SEQUENCE:0
DTSTAMP:20260421T152454Z
DTSTART:20260602T070000Z
DTEND:20260602T110000Z
SUMMARY:Сварочные материалы
LOCATION:Хим. к. 15
END:VEVENT
BEGIN:VEVENT
UID:7wsc@192.168.245.71:3006
SEQUENCE:0
DTSTAMP:20260421T152454Z
DTSTART:20260605T130000Z
DTEND:20260605T134500Z
SUMMARY:Теория гидрометаллургических процессов
LOCATION:Хим. к. 15
END:VEVENT
BEGIN:VEVENT
UID:lo69@192.168.245.71:3006
SEQUENCE:0
DTSTAMP:20260421T152454Z
DTSTART:20260606T070000Z
DTEND:20260606T110000Z
SUMMARY:Теория гидрометаллургических процессов
LOCATION:Хим. к. 15
END:VEVENT
END:VCALENDAR