BEGIN:VCALENDAR
VERSION:2.0
PRODID:-//spbstu.ru//ical//RU
NAME:Расписание группы 3332302/30101
X-WR-CALNAME:Расписание группы 3332302/30101
TIMEZONE-ID:Europe/Moscow
X-WR-TIMEZONE:Europe/Moscow
BEGIN:VEVENT
UID:9j7m@192.168.245.71:3006
SEQUENCE:0
DTSTAMP:20260422T163144Z
DTSTART:20260211T070000Z
DTEND:20260211T084000Z
SUMMARY:Конструкция НТТМ (ходовая часть и системы управления)
LOCATION:ТВН 302ВШТ
END:VEVENT
BEGIN:VEVENT
UID:79q8@192.168.245.71:3006
SEQUENCE:0
DTSTAMP:20260422T163144Z
DTSTART:20260211T090000Z
DTEND:20260211T104000Z
SUMMARY:Эксплуатация автомобилей
LOCATION:ТВН 309ВШТ
END:VEVENT
BEGIN:VEVENT
UID:b2kg@192.168.245.71:3006
SEQUENCE:0
DTSTAMP:20260422T163144Z
DTSTART:20260211T110000Z
DTEND:20260211T124000Z
SUMMARY:Проектирование наземных транспортных машин
LOCATION:ГЗ каф.ТТС
END:VEVENT
BEGIN:VEVENT
UID:h00z@192.168.245.71:3006
SEQUENCE:0
DTSTAMP:20260422T163144Z
DTSTART:20260211T130000Z
DTEND:20260211T144000Z
SUMMARY:Основы технологии машиностроения
LOCATION:Мех. к. каф.Т М
END:VEVENT
BEGIN:VEVENT
UID:4jq5@192.168.245.71:3006
SEQUENCE:0
DTSTAMP:20260422T163144Z
DTSTART:20260212T070000Z
DTEND:20260212T084000Z
SUMMARY:Электроника
LOCATION:ТВН 301ВШТ
END:VEVENT
BEGIN:VEVENT
UID:iilu@192.168.245.71:3006
SEQUENCE:0
DTSTAMP:20260422T163144Z
DTSTART:20260212T070000Z
DTEND:20260212T084000Z
SUMMARY:Конструкция НТТМ (ходовая часть и системы управления)
LOCATION:ТВН 302ВШТ
END:VEVENT
BEGIN:VEVENT
UID:mo0o@192.168.245.71:3006
SEQUENCE:0
DTSTAMP:20260422T163144Z
DTSTART:20260212T090000Z
DTEND:20260212T104000Z
SUMMARY:Динамика и прочность машин
LOCATION:ТВН 303ВШТ
END:VEVENT
BEGIN:VEVENT
UID:j404@192.168.245.71:3006
SEQUENCE:0
DTSTAMP:20260422T163144Z
DTSTART:20260212T110000Z
DTEND:20260212T124000Z
SUMMARY:Динамика и прочность машин
LOCATION:ТВН 303ВШТ
END:VEVENT
BEGIN:VEVENT
UID:ggrr@192.168.245.71:3006
SEQUENCE:0
DTSTAMP:20260422T163144Z
DTSTART:20260212T130000Z
DTEND:20260212T144000Z
SUMMARY:Проектно-исследовательская деятельность
LOCATION:ГЗ каф.ТТС
END:VEVENT
BEGIN:VEVENT
UID:w5be@192.168.245.71:3006
SEQUENCE:0
DTSTAMP:20260422T163144Z
DTSTART:20260214T070000Z
DTEND:20260214T084000Z
SUMMARY:Основы технологии машиностроения
LOCATION:ГЗ 232
END:VEVENT
END:VCALENDAR