BEGIN:VCALENDAR
VERSION:2.0
PRODID:-//spbstu.ru//ical//RU
NAME:Расписание группы 3332302/30101
X-WR-CALNAME:Расписание группы 3332302/30101
TIMEZONE-ID:Europe/Moscow
X-WR-TIMEZONE:Europe/Moscow
BEGIN:VEVENT
UID:pac9@192.168.245.71:3006
SEQUENCE:0
DTSTAMP:20260421T110939Z
DTSTART:20260401T070000Z
DTEND:20260401T084000Z
SUMMARY:Эксплуатация автомобилей
LOCATION:ТВН 309ВШТ
END:VEVENT
BEGIN:VEVENT
UID:8ah0@192.168.245.71:3006
SEQUENCE:0
DTSTAMP:20260421T110939Z
DTSTART:20260401T090000Z
DTEND:20260401T104000Z
SUMMARY:Эксплуатация автомобилей
LOCATION:ТВН 309ВШТ
END:VEVENT
BEGIN:VEVENT
UID:hflk@192.168.245.71:3006
SEQUENCE:0
DTSTAMP:20260421T110939Z
DTSTART:20260401T110000Z
DTEND:20260401T124000Z
SUMMARY:Проектирование наземных транспортных машин
LOCATION:ГЗ каф.ТТС
END:VEVENT
BEGIN:VEVENT
UID:tg4z@192.168.245.71:3006
SEQUENCE:0
DTSTAMP:20260421T110939Z
DTSTART:20260401T110000Z
DTEND:20260401T124000Z
SUMMARY:Основы технологии машиностроения
LOCATION:Мех. к. каф.Т М
END:VEVENT
BEGIN:VEVENT
UID:bo18@192.168.245.71:3006
SEQUENCE:0
DTSTAMP:20260421T110939Z
DTSTART:20260402T070000Z
DTEND:20260402T084000Z
SUMMARY:Конструкция НТТМ (ходовая часть и системы управления)
LOCATION:ТВН 302ВШТ
END:VEVENT
BEGIN:VEVENT
UID:g2xq@192.168.245.71:3006
SEQUENCE:0
DTSTAMP:20260421T110939Z
DTSTART:20260402T070000Z
DTEND:20260402T084000Z
SUMMARY:Электроника
LOCATION:ТВН 301ВШТ
END:VEVENT
BEGIN:VEVENT
UID:npm9@192.168.245.71:3006
SEQUENCE:0
DTSTAMP:20260421T110939Z
DTSTART:20260402T090000Z
DTEND:20260402T104000Z
SUMMARY:Динамика и прочность машин
LOCATION:ТВН 303ВШТ
END:VEVENT
BEGIN:VEVENT
UID:k0rp@192.168.245.71:3006
SEQUENCE:0
DTSTAMP:20260421T110939Z
DTSTART:20260402T110000Z
DTEND:20260402T124000Z
SUMMARY:Электроника
LOCATION:ТВН 301ВШТ
END:VEVENT
BEGIN:VEVENT
UID:h5ol@192.168.245.71:3006
SEQUENCE:0
DTSTAMP:20260421T110939Z
DTSTART:20260402T130000Z
DTEND:20260402T144000Z
SUMMARY:Проектно-исследовательская деятельность
LOCATION:ГЗ каф.ТТС
END:VEVENT
BEGIN:VEVENT
UID:xtap@192.168.245.71:3006
SEQUENCE:0
DTSTAMP:20260421T110939Z
DTSTART:20260404T070000Z
DTEND:20260404T084000Z
SUMMARY:Основы технологии машиностроения
LOCATION:ГЗ 224
END:VEVENT
END:VCALENDAR