BEGIN:VCALENDAR
VERSION:2.0
PRODID:-//spbstu.ru//ical//RU
NAME:Расписание группы 3332702/30501
X-WR-CALNAME:Расписание группы 3332702/30501
TIMEZONE-ID:Europe/Moscow
X-WR-TIMEZONE:Europe/Moscow
BEGIN:VEVENT
UID:vp9v@192.168.245.71:3006
SEQUENCE:0
DTSTAMP:20260424T061428Z
DTSTART:20251208T070000Z
DTEND:20251208T084000Z
SUMMARY:Управление программными проектами
LOCATION:11 к. 344
END:VEVENT
BEGIN:VEVENT
UID:bvvu@192.168.245.71:3006
SEQUENCE:0
DTSTAMP:20260424T061428Z
DTSTART:20251208T090000Z
DTEND:20251208T104000Z
SUMMARY:Инфраструктура нововведений (на английском языке)
LOCATION:11 к. 350
END:VEVENT
BEGIN:VEVENT
UID:5ns8@192.168.245.71:3006
SEQUENCE:0
DTSTAMP:20260424T061428Z
DTSTART:20251208T110000Z
DTEND:20251208T124000Z
SUMMARY:Инфраструктура нововведений (на английском языке)
LOCATION:11 к. 350
END:VEVENT
BEGIN:VEVENT
UID:3cky@192.168.245.71:3006
SEQUENCE:0
DTSTAMP:20260424T061428Z
DTSTART:20251208T130000Z
DTEND:20251208T144000Z
SUMMARY:Менеджмент качества
LOCATION:11 к. 345
END:VEVENT
BEGIN:VEVENT
UID:16lq@192.168.245.71:3006
SEQUENCE:0
DTSTAMP:20260424T061428Z
DTSTART:20251210T070000Z
DTEND:20251210T084000Z
SUMMARY:Теория и системы управления
LOCATION:ГЗ 282
END:VEVENT
BEGIN:VEVENT
UID:m1u3@192.168.245.71:3006
SEQUENCE:0
DTSTAMP:20260424T061428Z
DTSTART:20251210T090000Z
DTEND:20251210T104000Z
SUMMARY:Теория и системы управления
LOCATION:11 к. 344
END:VEVENT
BEGIN:VEVENT
UID:k0wj@192.168.245.71:3006
SEQUENCE:0
DTSTAMP:20260424T061428Z
DTSTART:20251210T090000Z
DTEND:20251210T104000Z
SUMMARY:Теория и системы управления
LOCATION:11 к. 344
END:VEVENT
BEGIN:VEVENT
UID:eyhg@192.168.245.71:3006
SEQUENCE:0
DTSTAMP:20260424T061428Z
DTSTART:20251213T050000Z
DTEND:20251213T064000Z
SUMMARY:Статистическое управление процессами
LOCATION:11 к. 345
END:VEVENT
BEGIN:VEVENT
UID:j126@192.168.245.71:3006
SEQUENCE:0
DTSTAMP:20260424T061428Z
DTSTART:20251213T070000Z
DTEND:20251213T084000Z
SUMMARY:Алгоритмы решения нестандартных задач
LOCATION:11 к. 344
END:VEVENT
BEGIN:VEVENT
UID:4qr9@192.168.245.71:3006
SEQUENCE:0
DTSTAMP:20260424T061428Z
DTSTART:20251213T090000Z
DTEND:20251213T104000Z
SUMMARY:Теория автоматического управления
LOCATION:1 к. 413
END:VEVENT
BEGIN:VEVENT
UID:ig94@192.168.245.71:3006
SEQUENCE:0
DTSTAMP:20260424T061428Z
DTSTART:20251213T110000Z
DTEND:20251213T124000Z
SUMMARY:Менеджмент качества
LOCATION:11 к. 345
END:VEVENT
END:VCALENDAR