BEGIN:VCALENDAR
VERSION:2.0
PRODID:-//spbstu.ru//ical//RU
NAME:Расписание группы 3332705/30102
X-WR-CALNAME:Расписание группы 3332705/30102
TIMEZONE-ID:Europe/Moscow
X-WR-TIMEZONE:Europe/Moscow
BEGIN:VEVENT
UID:vyhc@192.168.245.71:3006
SEQUENCE:0
DTSTAMP:20260423T204129Z
DTSTART:20251022T070000Z
DTEND:20251022T084000Z
SUMMARY:Теория и системы управления
LOCATION:ГЗ 282
END:VEVENT
BEGIN:VEVENT
UID:69dw@192.168.245.71:3006
SEQUENCE:0
DTSTAMP:20260423T204129Z
DTSTART:20251022T130000Z
DTEND:20251022T144000Z
SUMMARY:Менеджмент качества
LOCATION:11 к. 344
END:VEVENT
BEGIN:VEVENT
UID:03ue@192.168.245.71:3006
SEQUENCE:0
DTSTAMP:20260423T204129Z
DTSTART:20251023T070000Z
DTEND:20251023T084000Z
SUMMARY:Теория и системы управления
LOCATION:11 к. 344
END:VEVENT
BEGIN:VEVENT
UID:51ux@192.168.245.71:3006
SEQUENCE:0
DTSTAMP:20260423T204129Z
DTSTART:20251023T090000Z
DTEND:20251023T104000Z
SUMMARY:Управление программными проектами
LOCATION:11 к. 345
END:VEVENT
BEGIN:VEVENT
UID:2c7t@192.168.245.71:3006
SEQUENCE:0
DTSTAMP:20260423T204129Z
DTSTART:20251023T110000Z
DTEND:20251023T124000Z
SUMMARY:Инфраструктура нововведений (на английском языке)
LOCATION:11 к. 350
END:VEVENT
BEGIN:VEVENT
UID:9rcc@192.168.245.71:3006
SEQUENCE:0
DTSTAMP:20260423T204129Z
DTSTART:20251025T070000Z
DTEND:20251025T084000Z
SUMMARY:Теория автоматического управления
LOCATION:1 к. 413
END:VEVENT
BEGIN:VEVENT
UID:lp2j@192.168.245.71:3006
SEQUENCE:0
DTSTAMP:20260423T204129Z
DTSTART:20251025T090000Z
DTEND:20251025T104000Z
SUMMARY:Статистическое управление процессами
LOCATION:11 к. 345
END:VEVENT
BEGIN:VEVENT
UID:s4jw@192.168.245.71:3006
SEQUENCE:0
DTSTAMP:20260423T204129Z
DTSTART:20251025T110000Z
DTEND:20251025T124000Z
SUMMARY:Алгоритмы решения нестандартных задач
LOCATION:11 к. 344
END:VEVENT
END:VCALENDAR