BEGIN:VCALENDAR
VERSION:2.0
PRODID:-//spbstu.ru//ical//RU
NAME:Расписание группы 3332705/30102
X-WR-CALNAME:Расписание группы 3332705/30102
TIMEZONE-ID:Europe/Moscow
X-WR-TIMEZONE:Europe/Moscow
BEGIN:VEVENT
UID:i43z@192.168.245.71:3006
SEQUENCE:0
DTSTAMP:20260423T190918Z
DTSTART:20251027T110000Z
DTEND:20251027T124000Z
SUMMARY:Управление IT проектами
LOCATION:ГЗ 283
END:VEVENT
BEGIN:VEVENT
UID:e6jv@192.168.245.71:3006
SEQUENCE:0
DTSTAMP:20260423T190918Z
DTSTART:20251029T070000Z
DTEND:20251029T084000Z
SUMMARY:Теория и системы управления
LOCATION:ГЗ 282
END:VEVENT
BEGIN:VEVENT
UID:ja9a@192.168.245.71:3006
SEQUENCE:0
DTSTAMP:20260423T190918Z
DTSTART:20251029T090000Z
DTEND:20251029T104000Z
SUMMARY:Ресурсное обеспечение инновационной деятельности
LOCATION:ГЗ 253
END:VEVENT
BEGIN:VEVENT
UID:s1cz@192.168.245.71:3006
SEQUENCE:0
DTSTAMP:20260423T190918Z
DTSTART:20251029T110000Z
DTEND:20251029T124000Z
SUMMARY:Ресурсное обеспечение инновационной деятельности
LOCATION:1 к. 412
END:VEVENT
BEGIN:VEVENT
UID:liic@192.168.245.71:3006
SEQUENCE:0
DTSTAMP:20260423T190918Z
DTSTART:20251029T130000Z
DTEND:20251029T144000Z
SUMMARY:Менеджмент качества
LOCATION:11 к. 344
END:VEVENT
BEGIN:VEVENT
UID:cpxi@192.168.245.71:3006
SEQUENCE:0
DTSTAMP:20260423T190918Z
DTSTART:20251030T070000Z
DTEND:20251030T084000Z
SUMMARY:Теория и системы управления
LOCATION:11 к. 344
END:VEVENT
BEGIN:VEVENT
UID:m0ur@192.168.245.71:3006
SEQUENCE:0
DTSTAMP:20260423T190918Z
DTSTART:20251030T090000Z
DTEND:20251030T104000Z
SUMMARY:Управление программными проектами
LOCATION:11 к. 345
END:VEVENT
BEGIN:VEVENT
UID:pcx2@192.168.245.71:3006
SEQUENCE:0
DTSTAMP:20260423T190918Z
DTSTART:20251030T110000Z
DTEND:20251030T124000Z
SUMMARY:Инфраструктура нововведений (на английском языке)
LOCATION:11 к. 350
END:VEVENT
BEGIN:VEVENT
UID:sm6p@192.168.245.71:3006
SEQUENCE:0
DTSTAMP:20260423T190918Z
DTSTART:20251030T130000Z
DTEND:20251030T144000Z
SUMMARY:Инфраструктура нововведений (на английском языке)
LOCATION:11 к. 350
END:VEVENT
BEGIN:VEVENT
UID:8v1c@192.168.245.71:3006
SEQUENCE:0
DTSTAMP:20260423T190918Z
DTSTART:20251101T070000Z
DTEND:20251101T084000Z
SUMMARY:Теория автоматического управления
LOCATION:1 к. 413
END:VEVENT
BEGIN:VEVENT
UID:hiyn@192.168.245.71:3006
SEQUENCE:0
DTSTAMP:20260423T190918Z
DTSTART:20251101T090000Z
DTEND:20251101T104000Z
SUMMARY:Статистическое управление процессами
LOCATION:11 к. 345
END:VEVENT
BEGIN:VEVENT
UID:80cd@192.168.245.71:3006
SEQUENCE:0
DTSTAMP:20260423T190918Z
DTSTART:20251101T110000Z
DTEND:20251101T124000Z
SUMMARY:Алгоритмы решения нестандартных задач
LOCATION:11 к. 344
END:VEVENT
END:VCALENDAR