BEGIN:VCALENDAR
VERSION:2.0
PRODID:-//spbstu.ru//ical//RU
NAME:Расписание группы 3332705/30102
X-WR-CALNAME:Расписание группы 3332705/30102
TIMEZONE-ID:Europe/Moscow
X-WR-TIMEZONE:Europe/Moscow
BEGIN:VEVENT
UID:x93k@192.168.245.71:3006
SEQUENCE:0
DTSTAMP:20260424T022853Z
DTSTART:20251008T070000Z
DTEND:20251008T084000Z
SUMMARY:Теория и системы управления
LOCATION:ГЗ 282
END:VEVENT
BEGIN:VEVENT
UID:i5c8@192.168.245.71:3006
SEQUENCE:0
DTSTAMP:20260424T022853Z
DTSTART:20251008T130000Z
DTEND:20251008T144000Z
SUMMARY:Менеджмент качества
LOCATION:11 к. 344
END:VEVENT
BEGIN:VEVENT
UID:1ftb@192.168.245.71:3006
SEQUENCE:0
DTSTAMP:20260424T022853Z
DTSTART:20251009T070000Z
DTEND:20251009T084000Z
SUMMARY:Теория и системы управления
LOCATION:11 к. 344
END:VEVENT
BEGIN:VEVENT
UID:nq5m@192.168.245.71:3006
SEQUENCE:0
DTSTAMP:20260424T022853Z
DTSTART:20251009T090000Z
DTEND:20251009T104000Z
SUMMARY:Управление программными проектами
LOCATION:11 к. 345
END:VEVENT
BEGIN:VEVENT
UID:yydx@192.168.245.71:3006
SEQUENCE:0
DTSTAMP:20260424T022853Z
DTSTART:20251009T110000Z
DTEND:20251009T124000Z
SUMMARY:Инфраструктура нововведений (на английском языке)
LOCATION:11 к. 350
END:VEVENT
BEGIN:VEVENT
UID:uzko@192.168.245.71:3006
SEQUENCE:0
DTSTAMP:20260424T022853Z
DTSTART:20251011T070000Z
DTEND:20251011T084000Z
SUMMARY:Теория автоматического управления
LOCATION:1 к. 413
END:VEVENT
BEGIN:VEVENT
UID:a5cg@192.168.245.71:3006
SEQUENCE:0
DTSTAMP:20260424T022853Z
DTSTART:20251011T090000Z
DTEND:20251011T104000Z
SUMMARY:Статистическое управление процессами
LOCATION:11 к. 345
END:VEVENT
BEGIN:VEVENT
UID:8ci0@192.168.245.71:3006
SEQUENCE:0
DTSTAMP:20260424T022853Z
DTSTART:20251011T110000Z
DTEND:20251011T124000Z
SUMMARY:Алгоритмы решения нестандартных задач
LOCATION:11 к. 344
END:VEVENT
END:VCALENDAR