BEGIN:VCALENDAR
VERSION:2.0
PRODID:-//spbstu.ru//ical//RU
NAME:Расписание группы 3332705/30102
X-WR-CALNAME:Расписание группы 3332705/30102
TIMEZONE-ID:Europe/Moscow
X-WR-TIMEZONE:Europe/Moscow
BEGIN:VEVENT
UID:r56g@192.168.245.71:3006
SEQUENCE:0
DTSTAMP:20260422T160024Z
DTSTART:20260113T070000Z
DTEND:20260113T104000Z
SUMMARY:Инфраструктура нововведений (на английском языке)
LOCATION:11 к. 350
END:VEVENT
BEGIN:VEVENT
UID:opsa@192.168.245.71:3006
SEQUENCE:0
DTSTAMP:20260422T160024Z
DTSTART:20260117T090000Z
DTEND:20260117T104000Z
SUMMARY:Статистическое управление процессами
LOCATION:11 к. 344
END:VEVENT
END:VCALENDAR