BEGIN:VCALENDAR
VERSION:2.0
PRODID:-//spbstu.ru//ical//RU
NAME:Расписание группы 3332705/30102
X-WR-CALNAME:Расписание группы 3332705/30102
TIMEZONE-ID:Europe/Moscow
X-WR-TIMEZONE:Europe/Moscow
BEGIN:VEVENT
UID:sfxx@192.168.245.71:3006
SEQUENCE:0
DTSTAMP:20260421T102920Z
DTSTART:20260414T070000Z
DTEND:20260414T084000Z
SUMMARY:Управление инновационными проектами
LOCATION:11 к. 344
END:VEVENT
BEGIN:VEVENT
UID:13t9@192.168.245.71:3006
SEQUENCE:0
DTSTAMP:20260421T102920Z
DTSTART:20260415T070000Z
DTEND:20260415T084000Z
SUMMARY:Логистика в инновационной деятельности
LOCATION:11 к. 344
END:VEVENT
BEGIN:VEVENT
UID:hqjr@192.168.245.71:3006
SEQUENCE:0
DTSTAMP:20260421T102920Z
DTSTART:20260415T090000Z
DTEND:20260415T104000Z
SUMMARY:Логистика в инновационной деятельности
LOCATION:11 к. 344
END:VEVENT
BEGIN:VEVENT
UID:8b2j@192.168.245.71:3006
SEQUENCE:0
DTSTAMP:20260421T102920Z
DTSTART:20260415T110000Z
DTEND:20260415T124000Z
SUMMARY:Защита интеллектуальной собственности
LOCATION:11 к. 350
END:VEVENT
BEGIN:VEVENT
UID:sghw@192.168.245.71:3006
SEQUENCE:0
DTSTAMP:20260421T102920Z
DTSTART:20260415T130000Z
DTEND:20260415T144000Z
SUMMARY:Проектирование технологического стартапа
LOCATION:11 к. 350
END:VEVENT
BEGIN:VEVENT
UID:t9g9@192.168.245.71:3006
SEQUENCE:0
DTSTAMP:20260421T102920Z
DTSTART:20260415T150000Z
DTEND:20260415T160000Z
SUMMARY:Теория и системы управления
LOCATION:11 к. 344
END:VEVENT
BEGIN:VEVENT
UID:60h9@192.168.245.71:3006
SEQUENCE:0
DTSTAMP:20260421T102920Z
DTSTART:20260415T160000Z
DTEND:20260415T170000Z
SUMMARY:Статистическое управление процессами
LOCATION:11 к. 344-1
END:VEVENT
BEGIN:VEVENT
UID:8dd4@192.168.245.71:3006
SEQUENCE:0
DTSTAMP:20260421T102920Z
DTSTART:20260416T130000Z
DTEND:20260416T144000Z
SUMMARY:Повышение конкурентоспособности инновационной организации
LOCATION:11 к. 344
END:VEVENT
END:VCALENDAR