BEGIN:VCALENDAR
VERSION:2.0
PRODID:-//spbstu.ru//ical//RU
NAME:Расписание группы 3332904/30101
X-WR-CALNAME:Расписание группы 3332904/30101
TIMEZONE-ID:Europe/Moscow
X-WR-TIMEZONE:Europe/Moscow
BEGIN:VEVENT
UID:4q4s@192.168.245.71:3006
SEQUENCE:0
DTSTAMP:20260421T181007Z
DTSTART:20260602T070000Z
DTEND:20260602T100000Z
SUMMARY:Образовательный форсайт
LOCATION:11 к. Маштех
END:VEVENT
BEGIN:VEVENT
UID:ymgc@192.168.245.71:3006
SEQUENCE:0
DTSTAMP:20260421T181007Z
DTSTART:20260602T100000Z
DTEND:20260602T130000Z
SUMMARY:Изготовление художественных изделий
LOCATION:11 к. Маштех
END:VEVENT
BEGIN:VEVENT
UID:ay0c@192.168.245.71:3006
SEQUENCE:0
DTSTAMP:20260421T181007Z
DTSTART:20260604T070000Z
DTEND:20260604T074500Z
SUMMARY:Производственная практика/Научно-исследовательская работа
LOCATION:11 к. Маштех
END:VEVENT
BEGIN:VEVENT
UID:jyrs@192.168.245.71:3006
SEQUENCE:0
DTSTAMP:20260421T181007Z
DTSTART:20260604T080000Z
DTEND:20260604T120000Z
SUMMARY:Производственная практика/Научно-исследовательская работа
LOCATION:11 к. Маштех
END:VEVENT
END:VCALENDAR