BEGIN:VCALENDAR
VERSION:2.0
PRODID:-//spbstu.ru//ical//RU
NAME:Расписание группы 3352301/30101
X-WR-CALNAME:Расписание группы 3352301/30101
TIMEZONE-ID:Europe/Moscow
X-WR-TIMEZONE:Europe/Moscow
BEGIN:VEVENT
UID:3x9i@192.168.245.71:3006
SEQUENCE:0
DTSTAMP:20260423T123339Z
DTSTART:20260112T130000Z
DTEND:20260112T134500Z
SUMMARY:Математическая статистика
LOCATION:ТВН 302ВШТ
END:VEVENT
BEGIN:VEVENT
UID:vevm@192.168.245.71:3006
SEQUENCE:0
DTSTAMP:20260423T123339Z
DTSTART:20260113T070000Z
DTEND:20260113T104000Z
SUMMARY:Математическая статистика
LOCATION:ТВН 302ВШТ
END:VEVENT
BEGIN:VEVENT
UID:un6h@192.168.245.71:3006
SEQUENCE:0
DTSTAMP:20260423T123339Z
DTSTART:20260114T070000Z
DTEND:20260114T084000Z
SUMMARY:Методы измерений
LOCATION:ТВН 309ВШТ
END:VEVENT
BEGIN:VEVENT
UID:fjr4@192.168.245.71:3006
SEQUENCE:0
DTSTAMP:20260423T123339Z
DTSTART:20260117T070000Z
DTEND:20260117T074500Z
SUMMARY:Детали машин и основы конструирования (курсовое проектирование)
LOCATION:ЛабК комп.класс ВШТ
END:VEVENT
BEGIN:VEVENT
UID:ch1r@192.168.245.71:3006
SEQUENCE:0
DTSTAMP:20260423T123339Z
DTSTART:20260117T080000Z
DTEND:20260117T084500Z
SUMMARY:Детали машин и основы конструирования (курсовое проектирование)
LOCATION:ЛабК комп.класс ВШТ
END:VEVENT
END:VCALENDAR