BEGIN:VCALENDAR
VERSION:2.0
PRODID:-//spbstu.ru//ical//RU
NAME:Расписание группы 3352301/30101
X-WR-CALNAME:Расписание группы 3352301/30101
TIMEZONE-ID:Europe/Moscow
X-WR-TIMEZONE:Europe/Moscow
BEGIN:VEVENT
UID:9nxa@192.168.245.71:3006
SEQUENCE:0
DTSTAMP:20260421T084941Z
DTSTART:20260330T070000Z
DTEND:20260330T084000Z
SUMMARY:Транспортные машины (на английском языке)
LOCATION:ТВН 301ВШТ
END:VEVENT
BEGIN:VEVENT
UID:e09r@192.168.245.71:3006
SEQUENCE:0
DTSTAMP:20260421T084941Z
DTSTART:20260330T090000Z
DTEND:20260330T104000Z
SUMMARY:Транспортные машины (на английском языке)
LOCATION:ТВН 301ВШТ
END:VEVENT
BEGIN:VEVENT
UID:syc9@192.168.245.71:3006
SEQUENCE:0
DTSTAMP:20260421T084941Z
DTSTART:20260330T110000Z
DTEND:20260330T124000Z
SUMMARY:Проектирование НТТС
LOCATION:ТВН 301ВШТ
END:VEVENT
BEGIN:VEVENT
UID:ctib@192.168.245.71:3006
SEQUENCE:0
DTSTAMP:20260421T084941Z
DTSTART:20260331T070000Z
DTEND:20260331T084000Z
SUMMARY:Проектирование НТТС
LOCATION:ТВН 301ВШТ
END:VEVENT
BEGIN:VEVENT
UID:4wwa@192.168.245.71:3006
SEQUENCE:0
DTSTAMP:20260421T084941Z
DTSTART:20260331T090000Z
DTEND:20260331T104000Z
SUMMARY:САПР
LOCATION:ТВН 304ВШТ
END:VEVENT
BEGIN:VEVENT
UID:6fjo@192.168.245.71:3006
SEQUENCE:0
DTSTAMP:20260421T084941Z
DTSTART:20260331T110000Z
DTEND:20260331T124000Z
SUMMARY:Термодинамика и теплопередача
LOCATION:Хим. к. лаб.8 Термодинамика
END:VEVENT
BEGIN:VEVENT
UID:ia0x@192.168.245.71:3006
SEQUENCE:0
DTSTAMP:20260421T084941Z
DTSTART:20260401T070000Z
DTEND:20260401T084000Z
SUMMARY:Конструкция НТТС
LOCATION:ТВН 303ВШТ
END:VEVENT
BEGIN:VEVENT
UID:mujg@192.168.245.71:3006
SEQUENCE:0
DTSTAMP:20260421T084941Z
DTSTART:20260401T090000Z
DTEND:20260401T104000Z
SUMMARY:САПР
LOCATION:ТВН 304ВШТ
END:VEVENT
BEGIN:VEVENT
UID:jgz9@192.168.245.71:3006
SEQUENCE:0
DTSTAMP:20260421T084941Z
DTSTART:20260402T070000Z
DTEND:20260402T084000Z
SUMMARY:Основы технологии машиностроения
LOCATION:Мех. к. каф.Т М
END:VEVENT
BEGIN:VEVENT
UID:n9as@192.168.245.71:3006
SEQUENCE:0
DTSTAMP:20260421T084941Z
DTSTART:20260402T090000Z
DTEND:20260402T104000Z
SUMMARY:Электроника
LOCATION:ТВН 301ВШТ
END:VEVENT
BEGIN:VEVENT
UID:jwc7@192.168.245.71:3006
SEQUENCE:0
DTSTAMP:20260421T084941Z
DTSTART:20260402T110000Z
DTEND:20260402T124000Z
SUMMARY:Конструкция НТТС
LOCATION:ТВН 309ВШТ
END:VEVENT
BEGIN:VEVENT
UID:0lg9@192.168.245.71:3006
SEQUENCE:0
DTSTAMP:20260421T084941Z
DTSTART:20260404T070000Z
DTEND:20260404T084000Z
SUMMARY:Основы технологии машиностроения
LOCATION:ГЗ 224
END:VEVENT
END:VCALENDAR