BEGIN:VCALENDAR
VERSION:2.0
PRODID:-//spbstu.ru//ical//RU
NAME:Расписание группы 3331504/20301
X-WR-CALNAME:Расписание группы 3331504/20301
TIMEZONE-ID:Europe/Moscow
X-WR-TIMEZONE:Europe/Moscow
BEGIN:VEVENT
UID:8se3@192.168.245.71:3006
SEQUENCE:0
DTSTAMP:20260424T043010Z
DTSTART:20251021T090000Z
DTEND:20251021T104000Z
SUMMARY:Проектирование и конструирование мехатронных модулей автоматизиров
 анного технологического оборудования
LOCATION:1 к. 425
END:VEVENT
BEGIN:VEVENT
UID:0dmr@192.168.245.71:3006
SEQUENCE:0
DTSTAMP:20260424T043010Z
DTSTART:20251021T110000Z
DTEND:20251021T124000Z
SUMMARY:Электронные устройства автоматизированных технологических машин  и
  оборудования
LOCATION:1 к. 41
END:VEVENT
BEGIN:VEVENT
UID:6ebd@192.168.245.71:3006
SEQUENCE:0
DTSTAMP:20260424T043010Z
DTSTART:20251021T130000Z
DTEND:20251021T144000Z
SUMMARY:НИОКР
LOCATION:НИК В2.15
END:VEVENT
BEGIN:VEVENT
UID:6oft@192.168.245.71:3006
SEQUENCE:0
DTSTAMP:20260424T043010Z
DTSTART:20251022T070000Z
DTEND:20251022T084000Z
SUMMARY:Электрические\, гидравлические и пневматические приводы мехатронны
 х и робототехнических устройств
LOCATION:ГЗ 215
END:VEVENT
BEGIN:VEVENT
UID:zmzg@192.168.245.71:3006
SEQUENCE:0
DTSTAMP:20260424T043010Z
DTSTART:20251022T090000Z
DTEND:20251022T104000Z
SUMMARY:Эргономика
LOCATION:1 к. 420
END:VEVENT
BEGIN:VEVENT
UID:b1lv@192.168.245.71:3006
SEQUENCE:0
DTSTAMP:20260424T043010Z
DTSTART:20251022T110000Z
DTEND:20251022T124000Z
SUMMARY:Микропроцессорная техника автоматизированного оборудования
LOCATION:1 к. 425
END:VEVENT
BEGIN:VEVENT
UID:b3oq@192.168.245.71:3006
SEQUENCE:0
DTSTAMP:20260424T043010Z
DTSTART:20251023T050000Z
DTEND:20251023T064000Z
SUMMARY:Машиностроительная схемотехника
LOCATION:ГЗ 215
END:VEVENT
BEGIN:VEVENT
UID:e76l@192.168.245.71:3006
SEQUENCE:0
DTSTAMP:20260424T043010Z
DTSTART:20251023T070000Z
DTEND:20251023T084000Z
SUMMARY:Электрические\, гидравлические и пневматические приводы мехатронны
 х и робототехнических устройств
LOCATION:9 к. 115
END:VEVENT
BEGIN:VEVENT
UID:ej9q@192.168.245.71:3006
SEQUENCE:0
DTSTAMP:20260424T043010Z
DTSTART:20251023T090000Z
DTEND:20251023T104000Z
SUMMARY:Программное обеспечение автоматизированных производственных систем
LOCATION:1 к. 413
END:VEVENT
BEGIN:VEVENT
UID:sep7@192.168.245.71:3006
SEQUENCE:0
DTSTAMP:20260424T043010Z
DTSTART:20251023T110000Z
DTEND:20251023T124000Z
SUMMARY:Мехатронные модули современного технологического оборудования  (на
  английском языке)
LOCATION:1 к. кафедра Автоматы
END:VEVENT
BEGIN:VEVENT
UID:hkl4@192.168.245.71:3006
SEQUENCE:0
DTSTAMP:20260424T043010Z
DTSTART:20251023T130000Z
DTEND:20251023T144000Z
SUMMARY:Эргономика
LOCATION:1 к. 420
END:VEVENT
BEGIN:VEVENT
UID:8joy@192.168.245.71:3006
SEQUENCE:0
DTSTAMP:20260424T043010Z
DTSTART:20251024T070000Z
DTEND:20251024T084000Z
SUMMARY:Электронные устройства автоматизированных технологических машин  и
  оборудования
LOCATION:ГЗ 271
END:VEVENT
BEGIN:VEVENT
UID:ctx9@192.168.245.71:3006
SEQUENCE:0
DTSTAMP:20260424T043010Z
DTSTART:20251024T090000Z
DTEND:20251024T104000Z
SUMMARY:Программное обеспечение автоматизированных производственных систем
LOCATION:1 к. кафедра Автоматы
END:VEVENT
BEGIN:VEVENT
UID:u0j6@192.168.245.71:3006
SEQUENCE:0
DTSTAMP:20260424T043010Z
DTSTART:20251024T110000Z
DTEND:20251024T124000Z
SUMMARY:Микропроцессорная техника автоматизированного оборудования
LOCATION:1 к. кафедра Автоматы
END:VEVENT
BEGIN:VEVENT
UID:18xo@192.168.245.71:3006
SEQUENCE:0
DTSTAMP:20260424T043010Z
DTSTART:20251024T130000Z
DTEND:20251024T144000Z
SUMMARY:Проектирование и конструирование мехатронных модулей автоматизиров
 анного технологического оборудования
LOCATION:1 к. кафедра Автоматы
END:VEVENT
END:VCALENDAR