BEGIN:VCALENDAR
VERSION:2.0
PRODID:-//spbstu.ru//ical//RU
NAME:Расписание группы 3331504/20301
X-WR-CALNAME:Расписание группы 3331504/20301
TIMEZONE-ID:Europe/Moscow
X-WR-TIMEZONE:Europe/Moscow
BEGIN:VEVENT
UID:djm0@192.168.245.71:3006
SEQUENCE:0
DTSTAMP:20260423T222606Z
DTSTART:20251111T090000Z
DTEND:20251111T104000Z
SUMMARY:Проектирование и конструирование мехатронных модулей автоматизиров
 анного технологического оборудования
LOCATION:1 к. 425
END:VEVENT
BEGIN:VEVENT
UID:086r@192.168.245.71:3006
SEQUENCE:0
DTSTAMP:20260423T222606Z
DTSTART:20251111T110000Z
DTEND:20251111T124000Z
SUMMARY:Электронные устройства автоматизированных технологических машин  и
  оборудования
LOCATION:1 к. 41
END:VEVENT
BEGIN:VEVENT
UID:jd8i@192.168.245.71:3006
SEQUENCE:0
DTSTAMP:20260423T222606Z
DTSTART:20251111T130000Z
DTEND:20251111T144000Z
SUMMARY:НИОКР
LOCATION:НИК В2.15
END:VEVENT
BEGIN:VEVENT
UID:hsnp@192.168.245.71:3006
SEQUENCE:0
DTSTAMP:20260423T222606Z
DTSTART:20251112T070000Z
DTEND:20251112T084000Z
SUMMARY:Электрические\, гидравлические и пневматические приводы мехатронны
 х и робототехнических устройств
LOCATION:ГЗ 215
END:VEVENT
BEGIN:VEVENT
UID:xe2u@192.168.245.71:3006
SEQUENCE:0
DTSTAMP:20260423T222606Z
DTSTART:20251112T090000Z
DTEND:20251112T104000Z
SUMMARY:Электрические\, гидравлические и пневматические приводы мехатронны
 х и робототехнических устройств
LOCATION:9 к. 115
END:VEVENT
BEGIN:VEVENT
UID:q2zf@192.168.245.71:3006
SEQUENCE:0
DTSTAMP:20260423T222606Z
DTSTART:20251112T110000Z
DTEND:20251112T124000Z
SUMMARY:Микропроцессорная техника автоматизированного оборудования
LOCATION:1 к. 425
END:VEVENT
BEGIN:VEVENT
UID:df4m@192.168.245.71:3006
SEQUENCE:0
DTSTAMP:20260423T222606Z
DTSTART:20251112T130000Z
DTEND:20251112T144000Z
SUMMARY:Эргономика
LOCATION:Хим. к. 52
END:VEVENT
BEGIN:VEVENT
UID:v9w2@192.168.245.71:3006
SEQUENCE:0
DTSTAMP:20260423T222606Z
DTSTART:20251113T050000Z
DTEND:20251113T064000Z
SUMMARY:Машиностроительная схемотехника
LOCATION:ГЗ 215
END:VEVENT
BEGIN:VEVENT
UID:dri1@192.168.245.71:3006
SEQUENCE:0
DTSTAMP:20260423T222606Z
DTSTART:20251113T070000Z
DTEND:20251113T084000Z
SUMMARY:Машиностроительная схемотехника
LOCATION:1 к. кафедра Автоматы
END:VEVENT
BEGIN:VEVENT
UID:gao8@192.168.245.71:3006
SEQUENCE:0
DTSTAMP:20260423T222606Z
DTSTART:20251113T090000Z
DTEND:20251113T104000Z
SUMMARY:Программное обеспечение автоматизированных производственных систем
LOCATION:1 к. 413
END:VEVENT
BEGIN:VEVENT
UID:p0qp@192.168.245.71:3006
SEQUENCE:0
DTSTAMP:20260423T222606Z
DTSTART:20251113T110000Z
DTEND:20251113T124000Z
SUMMARY:Мехатронные модули современного технологического оборудования  (на
  английском языке)
LOCATION:1 к. кафедра Автоматы
END:VEVENT
BEGIN:VEVENT
UID:ztkp@192.168.245.71:3006
SEQUENCE:0
DTSTAMP:20260423T222606Z
DTSTART:20251114T070000Z
DTEND:20251114T084000Z
SUMMARY:Электронные устройства автоматизированных технологических машин  и
  оборудования
LOCATION:ГЗ 271
END:VEVENT
BEGIN:VEVENT
UID:kqiv@192.168.245.71:3006
SEQUENCE:0
DTSTAMP:20260423T222606Z
DTSTART:20251114T090000Z
DTEND:20251114T104000Z
SUMMARY:Программное обеспечение автоматизированных производственных систем
LOCATION:1 к. кафедра Автоматы
END:VEVENT
BEGIN:VEVENT
UID:vlqa@192.168.245.71:3006
SEQUENCE:0
DTSTAMP:20260423T222606Z
DTSTART:20251114T110000Z
DTEND:20251114T124000Z
SUMMARY:Микропроцессорная техника автоматизированного оборудования
LOCATION:1 к. кафедра Автоматы
END:VEVENT
BEGIN:VEVENT
UID:gd0i@192.168.245.71:3006
SEQUENCE:0
DTSTAMP:20260423T222606Z
DTSTART:20251114T130000Z
DTEND:20251114T144000Z
SUMMARY:Проектирование и конструирование мехатронных модулей автоматизиров
 анного технологического оборудования
LOCATION:1 к. кафедра Автоматы
END:VEVENT
BEGIN:VEVENT
UID:0h4y@192.168.245.71:3006
SEQUENCE:0
DTSTAMP:20260423T222606Z
DTSTART:20251115T110000Z
DTEND:20251115T124000Z
SUMMARY:Программное обеспечение автоматизированных производственных систем
LOCATION:1 к. кафедра Автоматы
END:VEVENT
END:VCALENDAR